BEGIN:VCALENDAR
VERSION:2.0
PRODID:-//Melanoma Institute Australia - ECPv6.15.20//NONSGML v1.0//EN
CALSCALE:GREGORIAN
METHOD:PUBLISH
X-ORIGINAL-URL:https://melanoma.org.au
X-WR-CALDESC:Events for Melanoma Institute Australia
REFRESH-INTERVAL;VALUE=DURATION:PT1H
X-Robots-Tag:noindex
X-PUBLISHED-TTL:PT1H
BEGIN:VTIMEZONE
TZID:Australia/Hobart
BEGIN:STANDARD
TZOFFSETFROM:+1100
TZOFFSETTO:+1000
TZNAME:AEST
DTSTART:20210403T160000
END:STANDARD
BEGIN:DAYLIGHT
TZOFFSETFROM:+1000
TZOFFSETTO:+1100
TZNAME:AEDT
DTSTART:20211002T160000
END:DAYLIGHT
BEGIN:STANDARD
TZOFFSETFROM:+1100
TZOFFSETTO:+1000
TZNAME:AEST
DTSTART:20220402T160000
END:STANDARD
BEGIN:DAYLIGHT
TZOFFSETFROM:+1000
TZOFFSETTO:+1100
TZNAME:AEDT
DTSTART:20221001T160000
END:DAYLIGHT
BEGIN:STANDARD
TZOFFSETFROM:+1100
TZOFFSETTO:+1000
TZNAME:AEST
DTSTART:20230401T160000
END:STANDARD
BEGIN:DAYLIGHT
TZOFFSETFROM:+1000
TZOFFSETTO:+1100
TZNAME:AEDT
DTSTART:20230930T160000
END:DAYLIGHT
END:VTIMEZONE
BEGIN:VEVENT
DTSTART;TZID=Australia/Hobart:20221103T160000
DTEND;TZID=Australia/Hobart:20221103T180000
DTSTAMP:20260423T201235
CREATED:20221011T011209Z
LAST-MODIFIED:20221011T013152Z
UID:10000077-1667491200-1667498400@melanoma.org.au
SUMMARY:Melanoma Community Forum - Hobart
DESCRIPTION:Our Melanoma Community Forum is designed to empower patients and their carers with the latest information from expert clinicians on melanoma diagnosis\, treatment and support. \nIf you have been diagnosed with melanoma or know someone who has\, this is your opportunity to learn more about: \n\nunderstanding your diagnosis\ntreatment options for different stages of disease\nthe latest advancements in surgery and medical treatments\nside effects from drug treatment\nhow to manage anxiety and fear of recurrence.\n\nThe afternoon will conclude with a panel discussion. Afternoon tea and light refreshments will be provided. \nIt’s also a wonderful opportunity to meet other people impacted by melanoma. \nThis forum is hosted by Skin Cancer Tasmania\, now part of Melanoma Institute Australia. \nNote: Doors open at 3:30pm \nThe Melanoma Community Forum is free to attend. Please RSVP by Thursday 27 October using the button below. \nRSVP NOW
URL:https://melanoma.org.au/event/melanoma-community-forum-hobart/
LOCATION:The Royal Yacht Club of Tasmania\, Marieville Esplanade\, Sandy Bay\, Tasmania\, 7005\, Australia
CATEGORIES:Tasmania,Patient Education
ATTACH;FMTTYPE=image/png:https://melanoma.org.au/wp-content/uploads/2022/10/Community-Forum-Hobart-.png
ORGANIZER;CN="Melanoma Institute Australia":MAILTO:events@melanoma.org.au
END:VEVENT
BEGIN:VEVENT
DTSTART;TZID=Australia/Hobart:20221103T190000
DTEND;TZID=Australia/Hobart:20221103T210000
DTSTAMP:20260423T201235
CREATED:20221011T012704Z
LAST-MODIFIED:20221011T012757Z
UID:10000078-1667502000-1667509200@melanoma.org.au
SUMMARY:Melanoma Clinical Education Evening - Hobart
DESCRIPTION:Join us for an engaging educational program designed for all clinicians who care for melanoma patients.\nHosted by Skin Cancer Tasmania\, now part of Melanoma Institute Australia\, our educational evening will provide you with an overview of our latest understanding of the management of melanoma. \nHear from leading multidisciplinary experts as they discuss how systemic therapy has transformed survival outcomes for melanoma patients\, the current role of surgery in the management of melanoma\, and the shifting referral paradigm in Tasmania. The evening will conclude with a panel discussion and dinner will be provided. \nThis event is suitable for GPs\, Specialists and Nurses*. \n* Up to 2 Nurses per practice/unit recommended. \nThursday 3rd November 2022\, 7pm – 9pm (Registration opens at 6:30pm) \nCPD: A certificate of attendance will be given to attendees. \nThere is no charge to attend. Please register using the button below. \nREGISTER NOW
URL:https://melanoma.org.au/event/6648/
LOCATION:The Royal Yacht Club of Tasmania\, Marieville Esplanade\, Sandy Bay\, Tasmania\, 7005\, Australia
CATEGORIES:Clinician Education,Tasmania
ATTACH;FMTTYPE=image/png:https://melanoma.org.au/wp-content/uploads/2022/10/Clinical-Education-Evening-Tasmania.png
END:VEVENT
END:VCALENDAR