BEGIN:VCALENDAR
VERSION:2.0
PRODID:-//Melanoma Institute Australia - ECPv6.15.20//NONSGML v1.0//EN
CALSCALE:GREGORIAN
METHOD:PUBLISH
X-WR-CALNAME:Melanoma Institute Australia
X-ORIGINAL-URL:https://melanoma.org.au
X-WR-CALDESC:Events for Melanoma Institute Australia
REFRESH-INTERVAL;VALUE=DURATION:PT1H
X-Robots-Tag:noindex
X-PUBLISHED-TTL:PT1H
BEGIN:VTIMEZONE
TZID:Australia/Adelaide
BEGIN:STANDARD
TZOFFSETFROM:+1030
TZOFFSETTO:+0930
TZNAME:ACST
DTSTART:20220402T163000
END:STANDARD
BEGIN:DAYLIGHT
TZOFFSETFROM:+0930
TZOFFSETTO:+1030
TZNAME:ACDT
DTSTART:20221001T163000
END:DAYLIGHT
BEGIN:STANDARD
TZOFFSETFROM:+1030
TZOFFSETTO:+0930
TZNAME:ACST
DTSTART:20230401T163000
END:STANDARD
BEGIN:DAYLIGHT
TZOFFSETFROM:+0930
TZOFFSETTO:+1030
TZNAME:ACDT
DTSTART:20230930T163000
END:DAYLIGHT
BEGIN:STANDARD
TZOFFSETFROM:+1030
TZOFFSETTO:+0930
TZNAME:ACST
DTSTART:20240406T163000
END:STANDARD
BEGIN:DAYLIGHT
TZOFFSETFROM:+0930
TZOFFSETTO:+1030
TZNAME:ACDT
DTSTART:20241005T163000
END:DAYLIGHT
END:VTIMEZONE
BEGIN:VEVENT
DTSTART;VALUE=DATE:20230822
DTEND;VALUE=DATE:20230829
DTSTAMP:20260425T034000
CREATED:20220923T015320Z
LAST-MODIFIED:20230711T070147Z
UID:10000075-1692662400-1693267199@melanoma.org.au
SUMMARY:Flinders Ranges Adventure
DESCRIPTION:Join Melanoma Institute Australia for the life-changing Flinders Ranges Adventure\, taking place in August 2023. \n\n\nJoin an amazing adventure exploring the highlights of South Australia’s Flinders Ranges\, enjoying wonderful camaraderie and being part of an uplifting experience supporting Melanoma Institute Australia research. \nOur seven day walking adventure has been especially created for us through our adventure partner\, Goodwill Hunting Co. \nWith every step you take through the Flinders Ranges you will be changing the lives of people impacted by melanoma now and in the future … it may change your life too. \nDon’t delay\, due to the nature of the walk\, numbers are limited. \n\n\nPlease note that registration is in 2 steps:\nStep 1: Register through Goodwill Hunting Co. website (using button below) and pay first instalment\nStep 2: Sign up to the fundraising page through GoFundraise once you have received the welcome email and link from Goodwill Hunting Co. \nFIND OUT MORE AND REGISTER NOW
URL:https://melanoma.org.au/event/flinders-ranges-adventure/
CATEGORIES:Fundraiser
ATTACH;FMTTYPE=image/jpeg:https://melanoma.org.au/wp-content/uploads/2022/09/Flinders-Ranges-Adventure-1.jpg
END:VEVENT
END:VCALENDAR