BEGIN:VCALENDAR
VERSION:2.0
PRODID:-//Melanoma Institute Australia - ECPv6.15.20//NONSGML v1.0//EN
CALSCALE:GREGORIAN
METHOD:PUBLISH
X-ORIGINAL-URL:https://melanoma.org.au
X-WR-CALDESC:Events for Melanoma Institute Australia
REFRESH-INTERVAL;VALUE=DURATION:PT1H
X-Robots-Tag:noindex
X-PUBLISHED-TTL:PT1H
BEGIN:VTIMEZONE
TZID:Australia/Sydney
BEGIN:STANDARD
TZOFFSETFROM:+1100
TZOFFSETTO:+1000
TZNAME:AEST
DTSTART:20240406T160000
END:STANDARD
BEGIN:DAYLIGHT
TZOFFSETFROM:+1000
TZOFFSETTO:+1100
TZNAME:AEDT
DTSTART:20241005T160000
END:DAYLIGHT
BEGIN:STANDARD
TZOFFSETFROM:+1100
TZOFFSETTO:+1000
TZNAME:AEST
DTSTART:20250405T160000
END:STANDARD
BEGIN:DAYLIGHT
TZOFFSETFROM:+1000
TZOFFSETTO:+1100
TZNAME:AEDT
DTSTART:20251004T160000
END:DAYLIGHT
BEGIN:STANDARD
TZOFFSETFROM:+1100
TZOFFSETTO:+1000
TZNAME:AEST
DTSTART:20260404T160000
END:STANDARD
BEGIN:DAYLIGHT
TZOFFSETFROM:+1000
TZOFFSETTO:+1100
TZNAME:AEDT
DTSTART:20261003T160000
END:DAYLIGHT
END:VTIMEZONE
BEGIN:VEVENT
DTSTART;VALUE=DATE:20250503
DTEND;VALUE=DATE:20250505
DTSTAMP:20260423T154045
CREATED:20250109T022138Z
LAST-MODIFIED:20250109T030402Z
UID:10000153-1746230400-1746403199@melanoma.org.au
SUMMARY:Mudgee Classic 2025
DESCRIPTION:Set in New South Wales’ beautiful Mudgee wine region\, the Mudgee Classic will surely be a bike ride to remember. Catering for all levels of cycling ability\, the event offers five courses over two days:  On Saturday 3 May\, the Dirty Mudgee 55km Gravel ride will return to the smooth rural trails\, lanes and country roads of Mudgee. On Sunday\, 4 May there will be 4 Gran Fondo road cycling courses to choose from: 170km Maxi Classic\, 120km Challenge Classic\, 65km Rouleurs Classic and the 35km Social Classic. \nWhen you nominate MIA as your charity of choice\, funds raised support our life-saving melanoma research\, so we can reach our mission of zero deaths from melanoma. \nMake sure you set up your fundraising page\, as well as registering for the event – both can be done at the link below. \nREGISTER NOW
URL:https://melanoma.org.au/event/mudgee-classic-2025/
CATEGORIES:Fundraiser,Cycling Events
ATTACH;FMTTYPE=image/jpeg:https://melanoma.org.au/wp-content/uploads/2025/01/Mudgee-Classic-2025.jpg
END:VEVENT
BEGIN:VEVENT
DTSTART;VALUE=DATE:20250504
DTEND;VALUE=DATE:20250505
DTSTAMP:20260423T154045
CREATED:20250422T024907Z
LAST-MODIFIED:20250422T024907Z
UID:10000167-1746316800-1746403199@melanoma.org.au
SUMMARY:2025 Mornington Running Festival
DESCRIPTION:The Mornington Running Festival returns to Mornington Peninsula for the 11th time on the 4 May\, 2025 weekend. \nSet in what is one of Australia’s most stunning courses to run\, winding along the esplanade from Mornington to Mt Martha and back. This unique experience to run or walk along this road free from traffic is unmissable. \nThe weekend features a variety of running & walking events to suit all ages and fitness levels. \nAll finishers receive a finishers medal and a free donut. \nWhen you nominate MIA as your charity of choice\, funds raised support our life-saving melanoma research\, so we can reach our mission of zero deaths from melanoma. \n\nMake sure you set up your fundraising page\, as well as registering for the event – both can be done at the link below. \n\nREGISTER NOW
URL:https://melanoma.org.au/event/2025-mornington-running-festival/
LOCATION:Mornington Park\, Schnapper Point Dr\, Mornington\, VIC\, 3931\, Australia
CATEGORIES:Fundraiser,Running Events
ATTACH;FMTTYPE=image/jpeg:https://melanoma.org.au/wp-content/uploads/2025/04/Mornington-Running-Festival.jpg
END:VEVENT
BEGIN:VEVENT
DTSTART;TZID=Australia/Sydney:20250504T062500
DTEND;TZID=Australia/Sydney:20250504T100000
DTSTAMP:20260423T154045
CREATED:20240926T020715Z
LAST-MODIFIED:20250109T011838Z
UID:10000132-1746339900-1746352800@melanoma.org.au
SUMMARY:HOKA Runaway™ Sydney Half Marathon
DESCRIPTION:Come and experience a truly unique city running experience through the beating heart of the Sydney CBD on Sunday 4 May 2025. \nSince 1992\, this has been one of Australia’s largest and most iconic half marathon events. For a few amazing hours in perfect Autumn running conditions\, the best of Sydney’s city streets are yours to enjoy. None of the big city hustle and bustle\, just wide-open city streets\, stunning views and the buzz of Australia’s biggest half-marathon all around you. \nThere’s something very special about running though the normally busy and bustling streets of a big city. The streets\, structures\, sights\, and sounds all hit different. Winding your way through the heart of Sydney’s CBD will give you a unique perspective. You’re right there\, in the heart of it. Soaking up the urban atmosphere and seeing those stunning Sydney landmarks. The Opera House? Harbour Bridge? Sydney Tower? Tick. Tick. Tick. Something you’ll remember forever. Big tick. Why just run any old event\, when you can run streetstyle in one of the world’s great cities. \nThere are two distances on offer: Half Marathon and 10km. \nWhen you nominate MIA as your charity of choice\, funds raised support our life-saving melanoma research\, so we can reach our mission of zero deaths from melanoma. \nMake sure you set up your fundraising page\, as well as registering for the event – both can be done at the link below. \nREGISTER NOW
URL:https://melanoma.org.au/event/hoka-runaway-sydney-half-marathon/
LOCATION:Macquarie Street\, Sydney\, Macquarie Street\, Sydney\, NSW\, 2000\, Australia
CATEGORIES:Fundraiser,Running Events
ATTACH;FMTTYPE=image/png:https://melanoma.org.au/wp-content/uploads/2024/09/HOKA-Runawa-Sydney-Half-Marathon-1200x675-1.png
END:VEVENT
END:VCALENDAR