BEGIN:VCALENDAR
VERSION:2.0
PRODID:-//Melanoma Institute Australia - ECPv6.15.20//NONSGML v1.0//EN
CALSCALE:GREGORIAN
METHOD:PUBLISH
X-ORIGINAL-URL:https://melanoma.org.au
X-WR-CALDESC:Events for Melanoma Institute Australia
REFRESH-INTERVAL;VALUE=DURATION:PT1H
X-Robots-Tag:noindex
X-PUBLISHED-TTL:PT1H
BEGIN:VTIMEZONE
TZID:Australia/Sydney
BEGIN:STANDARD
TZOFFSETFROM:+1100
TZOFFSETTO:+1000
TZNAME:AEST
DTSTART:20240406T160000
END:STANDARD
BEGIN:DAYLIGHT
TZOFFSETFROM:+1000
TZOFFSETTO:+1100
TZNAME:AEDT
DTSTART:20241005T160000
END:DAYLIGHT
BEGIN:STANDARD
TZOFFSETFROM:+1100
TZOFFSETTO:+1000
TZNAME:AEST
DTSTART:20250405T160000
END:STANDARD
BEGIN:DAYLIGHT
TZOFFSETFROM:+1000
TZOFFSETTO:+1100
TZNAME:AEDT
DTSTART:20251004T160000
END:DAYLIGHT
BEGIN:STANDARD
TZOFFSETFROM:+1100
TZOFFSETTO:+1000
TZNAME:AEST
DTSTART:20260404T160000
END:STANDARD
BEGIN:DAYLIGHT
TZOFFSETFROM:+1000
TZOFFSETTO:+1100
TZNAME:AEDT
DTSTART:20261003T160000
END:DAYLIGHT
END:VTIMEZONE
BEGIN:VEVENT
DTSTART;VALUE=DATE:20250517
DTEND;VALUE=DATE:20250519
DTSTAMP:20260423T185951
CREATED:20240926T055859Z
LAST-MODIFIED:20250109T011922Z
UID:10000133-1747440000-1747612799@melanoma.org.au
SUMMARY:Great Ocean Road Running Festival 2025
DESCRIPTION:Join in on the Great Ocean Road Running Festival in May 2025\, which will be held in Lorne & Apollo Bay. \nSet in what is truly Australia’s most stunning place to run\, winding along the wild and windswept coast of the Southern Ocean\, the scenic course is guaranteed to take your breath away. This unique experience to run or walk along the Great Ocean Road free from traffic is unmissable. \nThe weekend features a variety of running & walking events (from 1.5km – 60km!) to suit all ages and fitness levels\, as well as Festival activities including yoga\, kites\, live music & more. Something for everyone! \nWhen you nominate MIA as your charity of choice\, funds raised support our life-saving melanoma research\, so we can reach our mission of zero deaths from melanoma. \nMake sure you set up your fundraising page\, as well as registering for the event – both can be done at the link below. \nREGISTER NOW
URL:https://melanoma.org.au/event/great-ocean-road-running-festival-2025/
ATTACH;FMTTYPE=image/png:https://melanoma.org.au/wp-content/uploads/2024/09/Great-Ocean-Road-Running-1200x675-1.png
END:VEVENT
END:VCALENDAR