BEGIN:VCALENDAR
VERSION:2.0
PRODID:-//Melanoma Institute Australia - ECPv6.15.20//NONSGML v1.0//EN
CALSCALE:GREGORIAN
METHOD:PUBLISH
X-ORIGINAL-URL:https://melanoma.org.au
X-WR-CALDESC:Events for Melanoma Institute Australia
REFRESH-INTERVAL;VALUE=DURATION:PT1H
X-Robots-Tag:noindex
X-PUBLISHED-TTL:PT1H
BEGIN:VTIMEZONE
TZID:Australia/Sydney
BEGIN:STANDARD
TZOFFSETFROM:+1100
TZOFFSETTO:+1000
TZNAME:AEST
DTSTART:20240406T160000
END:STANDARD
BEGIN:DAYLIGHT
TZOFFSETFROM:+1000
TZOFFSETTO:+1100
TZNAME:AEDT
DTSTART:20241005T160000
END:DAYLIGHT
BEGIN:STANDARD
TZOFFSETFROM:+1100
TZOFFSETTO:+1000
TZNAME:AEST
DTSTART:20250405T160000
END:STANDARD
BEGIN:DAYLIGHT
TZOFFSETFROM:+1000
TZOFFSETTO:+1100
TZNAME:AEDT
DTSTART:20251004T160000
END:DAYLIGHT
BEGIN:STANDARD
TZOFFSETFROM:+1100
TZOFFSETTO:+1000
TZNAME:AEST
DTSTART:20260404T160000
END:STANDARD
BEGIN:DAYLIGHT
TZOFFSETFROM:+1000
TZOFFSETTO:+1100
TZNAME:AEDT
DTSTART:20261003T160000
END:DAYLIGHT
END:VTIMEZONE
BEGIN:VEVENT
DTSTART;VALUE=DATE:20250814
DTEND;VALUE=DATE:20250818
DTSTAMP:20260424T234303
CREATED:20250708T051448Z
LAST-MODIFIED:20250804T050054Z
UID:10000184-1755129600-1755475199@melanoma.org.au
SUMMARY:Sydney Boat Show
DESCRIPTION:ALL ABOARD\, SYDNEY! \nExplore Australia’s ultimate indoor boating and lifestyle showcase – this August at the Sydney Boat Show. \nFrom paddleboards to powerboats\, fishing gear to family fun\, experience it all under one roof at Sydney Showground\, Sydney Olympic Park. \nWhether you’re a seasoned skipper or just dipping your toes in\, the show offers something for every boating enthusiast – with leading brands\, expert demonstrations\, hands-on activities\, and exclusive show-only deals. \nWhat’s more\, Melanoma Institute Australia (MIA) is bringing its ‘Sun Safe Island’ activation to the Sydney Boat Show to encourage sun protection amongst boating enthusiasts. On ‘Sun Safe Island’ attendees can get on board with sun safety and learn about effective sun protection strategies\, whilst having some interactive fun – including a spin-to-win-wheel\, sun-safe selfies\, and the chance to win a CoolCabanas beach shade. \nGet your tickets to the Sydney Boat Show and come say hi to MIA at Sun Safe Island! \n\nUse MIA’s discount link below to receive 30% off Sydney Boat Show tickets. \n\n\nGET TICKETS HERE
URL:https://melanoma.org.au/event/sydney-boat-show/
LOCATION:Sydney Showground\, Grand Parade\, Sydney Olympic Park\, NSW\, 2127\, Australia
CATEGORIES:Awareness
ATTACH;FMTTYPE=image/jpeg:https://melanoma.org.au/wp-content/uploads/2025/07/Sydney-Boat-Show-2025.jpg
END:VEVENT
END:VCALENDAR