BEGIN:VCALENDAR
VERSION:2.0
PRODID:-//Melanoma Institute Australia - ECPv6.15.20//NONSGML v1.0//EN
CALSCALE:GREGORIAN
METHOD:PUBLISH
X-WR-CALNAME:Melanoma Institute Australia
X-ORIGINAL-URL:https://melanoma.org.au
X-WR-CALDESC:Events for Melanoma Institute Australia
REFRESH-INTERVAL;VALUE=DURATION:PT1H
X-Robots-Tag:noindex
X-PUBLISHED-TTL:PT1H
BEGIN:VTIMEZONE
TZID:Australia/Sydney
BEGIN:STANDARD
TZOFFSETFROM:+1100
TZOFFSETTO:+1000
TZNAME:AEST
DTSTART:20250405T160000
END:STANDARD
BEGIN:DAYLIGHT
TZOFFSETFROM:+1000
TZOFFSETTO:+1100
TZNAME:AEDT
DTSTART:20251004T160000
END:DAYLIGHT
BEGIN:STANDARD
TZOFFSETFROM:+1100
TZOFFSETTO:+1000
TZNAME:AEST
DTSTART:20260404T160000
END:STANDARD
BEGIN:DAYLIGHT
TZOFFSETFROM:+1000
TZOFFSETTO:+1100
TZNAME:AEDT
DTSTART:20261003T160000
END:DAYLIGHT
BEGIN:STANDARD
TZOFFSETFROM:+1100
TZOFFSETTO:+1000
TZNAME:AEST
DTSTART:20270403T160000
END:STANDARD
BEGIN:DAYLIGHT
TZOFFSETFROM:+1000
TZOFFSETTO:+1100
TZNAME:AEDT
DTSTART:20271002T160000
END:DAYLIGHT
END:VTIMEZONE
BEGIN:VTIMEZONE
TZID:Australia/Brisbane
BEGIN:STANDARD
TZOFFSETFROM:+1000
TZOFFSETTO:+1000
TZNAME:AEST
DTSTART:20250101T000000
END:STANDARD
END:VTIMEZONE
BEGIN:VEVENT
DTSTART;VALUE=DATE:20260301
DTEND;VALUE=DATE:20260330
DTSTAMP:20260425T035239
CREATED:20260115T052211Z
LAST-MODIFIED:20260116T004427Z
UID:10000235-1772323200-1774828799@melanoma.org.au
SUMMARY:Melanoma March 2026
DESCRIPTION:Melanoma March events are being held across Australia for the 15th year to raise awareness and help save lives from melanoma. \nMelanoma Institute Australia (MIA) is proudly celebrating 15 years of Melanoma March in 2026\, and is calling on all Australians to either join a local march or host their own event to take steps to help save lives from melanoma. \nNow open for registrations\, MIA’s Melanoma March events will be held all across the country during March 2026 and are organised by volunteer committees impacted by melanoma. \nThe events provide an opportunity for patients and families to come together to support each other and remember those lost to the disease. \nMelanoma is the deadliest form of skin cancer and Australia has the highest melanoma rates in the world. One person is diagnosed with melanoma every 30 minutes and one person dies from the disease every six hours. It is the most common cancer affecting 20-39-year-old Australians. \nFunds raised during Melanoma March 2026 will support life-saving research. \nWorld-class research by MIA has led to groundbreaking treatment advances and improved patient outcomes. First came targeted drug therapies\, followed closely by immunotherapies – the ‘penicillin moment for cancer treatment’ – and now neoadjuvant (pre-surgery) immunotherapy. Close to 60% of advanced melanoma patients are now surviving and are essentially cured because of these treatments. \nFind your local event via the button below. If there is not an event in your area\, or if you can’t attend an event\, you can still support the campaign by getting creative and hosting a March Your Way activity with friends or individually – or by making a donation. \nRegister at the link below before 1 February to receive 50% off! \nREGISTER NOW OR DONATECost to Register: \nCosts to attend a physical event are: \n\nAdults (over 18 years) $40\nChild (5-17 years) $20\nChild (under 5) Free\nFamily deal: Register 2 x Adults and up to 5 Children (5-17 yrs) for $80. Additional adults will be charged the full rate.\n\nRegistrations to March Your Way are half price!
URL:https://melanoma.org.au/event/melanoma-march-2026/
CATEGORIES:Fundraiser,Awareness
ATTACH;FMTTYPE=image/jpeg:https://melanoma.org.au/wp-content/uploads/2026/01/MIAF0240-MM26-MIA-website-tile-1200-x-675.jpg
ORGANIZER;CN="Melanoma Institute Australia":MAILTO:events@melanoma.org.au
END:VEVENT
BEGIN:VEVENT
DTSTART;TZID=Australia/Brisbane:20260316T070000
DTEND;TZID=Australia/Brisbane:20260316T150000
DTSTAMP:20260425T035239
CREATED:20260112T003054Z
LAST-MODIFIED:20260113T055642Z
UID:10000234-1773644400-1773673200@melanoma.org.au
SUMMARY:Ray Price Invitational Golf Day
DESCRIPTION:Join Parramatta legend\, and MIA Ambassador\, Ray Price for 18 holes at the RACV Royal Pines Resort and help raise funds for melanoma research. \nDual International and Parramatta Eels legend Ray Price OAM will tee-off for a life-saving cause to help battle the disease that almost ended his days on the golf course. \nThe man they called ‘Mr Perpetual Motion’ is raising funds and awareness for Melanoma Institute Australia. \nThe four-time premiership winner was diagnosed in 2020 alongside his wife Sandy. The dynamic duo beat the disease with the kind of toughness epitomised by Price’s fearless reputation on the footy field. \nNow with the help of a few of Ray’s famous footy mates and some wonderful supporters\, they’re giving back! \nEnjoy 18 holes of golf at one of the premier golf courses in Australia\, plus awesome prizes and great company! Play in teams of four\, in Ambrose format. \nTickets are $180.25 each. You can buy tickets or read more about the event at the link below. \nBUY TICKETSIf you can’t attend the Ray Price Invitational Golf Day\, and would like to support Ray and Sandy Price to fundraise for Melanoma Institute Australia (MIA)\, please donate using the button below. \nDONATE TO SUPPORT MIA
URL:https://melanoma.org.au/event/ray-price-invitational-golf-day-2026/
LOCATION:RACV Royal Pines Resort\, Ross Street\, Benowa\, QLD\, 4217\, Australia
CATEGORIES:Fundraiser
ATTACH;FMTTYPE=image/png:https://melanoma.org.au/wp-content/uploads/2024/02/Ray-Price-Invitational-Golf-Day-1200-x-675.png
END:VEVENT
END:VCALENDAR