BEGIN:VCALENDAR
VERSION:2.0
PRODID:-//Melanoma Institute Australia - ECPv6.15.20//NONSGML v1.0//EN
CALSCALE:GREGORIAN
METHOD:PUBLISH
X-ORIGINAL-URL:https://melanoma.org.au
X-WR-CALDESC:Events for Melanoma Institute Australia
REFRESH-INTERVAL;VALUE=DURATION:PT1H
X-Robots-Tag:noindex
X-PUBLISHED-TTL:PT1H
BEGIN:VTIMEZONE
TZID:Australia/Sydney
BEGIN:STANDARD
TZOFFSETFROM:+1100
TZOFFSETTO:+1000
TZNAME:AEST
DTSTART:20250405T160000
END:STANDARD
BEGIN:DAYLIGHT
TZOFFSETFROM:+1000
TZOFFSETTO:+1100
TZNAME:AEDT
DTSTART:20251004T160000
END:DAYLIGHT
BEGIN:STANDARD
TZOFFSETFROM:+1100
TZOFFSETTO:+1000
TZNAME:AEST
DTSTART:20260404T160000
END:STANDARD
BEGIN:DAYLIGHT
TZOFFSETFROM:+1000
TZOFFSETTO:+1100
TZNAME:AEDT
DTSTART:20261003T160000
END:DAYLIGHT
BEGIN:STANDARD
TZOFFSETFROM:+1100
TZOFFSETTO:+1000
TZNAME:AEST
DTSTART:20270403T160000
END:STANDARD
BEGIN:DAYLIGHT
TZOFFSETFROM:+1000
TZOFFSETTO:+1100
TZNAME:AEDT
DTSTART:20271002T160000
END:DAYLIGHT
END:VTIMEZONE
BEGIN:VTIMEZONE
TZID:Australia/Melbourne
BEGIN:STANDARD
TZOFFSETFROM:+1100
TZOFFSETTO:+1000
TZNAME:AEST
DTSTART:20250405T160000
END:STANDARD
BEGIN:DAYLIGHT
TZOFFSETFROM:+1000
TZOFFSETTO:+1100
TZNAME:AEDT
DTSTART:20251004T160000
END:DAYLIGHT
BEGIN:STANDARD
TZOFFSETFROM:+1100
TZOFFSETTO:+1000
TZNAME:AEST
DTSTART:20260404T160000
END:STANDARD
BEGIN:DAYLIGHT
TZOFFSETFROM:+1000
TZOFFSETTO:+1100
TZNAME:AEDT
DTSTART:20261003T160000
END:DAYLIGHT
BEGIN:STANDARD
TZOFFSETFROM:+1100
TZOFFSETTO:+1000
TZNAME:AEST
DTSTART:20270403T160000
END:STANDARD
BEGIN:DAYLIGHT
TZOFFSETFROM:+1000
TZOFFSETTO:+1100
TZNAME:AEDT
DTSTART:20271002T160000
END:DAYLIGHT
END:VTIMEZONE
BEGIN:VEVENT
DTSTART;VALUE=DATE:20260301
DTEND;VALUE=DATE:20260330
DTSTAMP:20260425T040303
CREATED:20260115T052211Z
LAST-MODIFIED:20260116T004427Z
UID:10000235-1772323200-1774828799@melanoma.org.au
SUMMARY:Melanoma March 2026
DESCRIPTION:Melanoma March events are being held across Australia for the 15th year to raise awareness and help save lives from melanoma. \nMelanoma Institute Australia (MIA) is proudly celebrating 15 years of Melanoma March in 2026\, and is calling on all Australians to either join a local march or host their own event to take steps to help save lives from melanoma. \nNow open for registrations\, MIA’s Melanoma March events will be held all across the country during March 2026 and are organised by volunteer committees impacted by melanoma. \nThe events provide an opportunity for patients and families to come together to support each other and remember those lost to the disease. \nMelanoma is the deadliest form of skin cancer and Australia has the highest melanoma rates in the world. One person is diagnosed with melanoma every 30 minutes and one person dies from the disease every six hours. It is the most common cancer affecting 20-39-year-old Australians. \nFunds raised during Melanoma March 2026 will support life-saving research. \nWorld-class research by MIA has led to groundbreaking treatment advances and improved patient outcomes. First came targeted drug therapies\, followed closely by immunotherapies – the ‘penicillin moment for cancer treatment’ – and now neoadjuvant (pre-surgery) immunotherapy. Close to 60% of advanced melanoma patients are now surviving and are essentially cured because of these treatments. \nFind your local event via the button below. If there is not an event in your area\, or if you can’t attend an event\, you can still support the campaign by getting creative and hosting a March Your Way activity with friends or individually – or by making a donation. \nRegister at the link below before 1 February to receive 50% off! \nREGISTER NOW OR DONATECost to Register: \nCosts to attend a physical event are: \n\nAdults (over 18 years) $40\nChild (5-17 years) $20\nChild (under 5) Free\nFamily deal: Register 2 x Adults and up to 5 Children (5-17 yrs) for $80. Additional adults will be charged the full rate.\n\nRegistrations to March Your Way are half price!
URL:https://melanoma.org.au/event/melanoma-march-2026/
CATEGORIES:Fundraiser,Awareness
ATTACH;FMTTYPE=image/jpeg:https://melanoma.org.au/wp-content/uploads/2026/01/MIAF0240-MM26-MIA-website-tile-1200-x-675.jpg
ORGANIZER;CN="Melanoma Institute Australia":MAILTO:events@melanoma.org.au
END:VEVENT
BEGIN:VEVENT
DTSTART;VALUE=DATE:20260317
DTEND;VALUE=DATE:20260321
DTSTAMP:20260425T040303
CREATED:20260211T055323Z
LAST-MODIFIED:20260302T045224Z
UID:10000253-1773705600-1774051199@melanoma.org.au
SUMMARY:38th TROG Cancer Research Annual Scientific Meeting
DESCRIPTION:The 38th TROG ASM will be held from 17-20 March 2026 in the vibrant and culture-rich city of Melbourne. \nThis year’s meeting will offer an exceptional platform for collaboration\, learning\, and professional exchange within the field of radiation oncology. Together\, we will explore the latest developments in clinical trials\, innovation in practice\, and the future of radiation oncology. \nThe first day of TROG 2026 will showcase three specific and engaging full day workshops\, each of which has a different focus\, ensuring there’s something for everyone: \n\nClinical Research Education Workshop (CREW)\nTechnical Research Workshop (TRW)\nStatistical Methods\, Evidence Appraisal & Research for Trainees Workshop (SMART)\n\n​Key Dates \n17-20 March 2026 \nVenue \nPullman Albert Park\, Melbourne\, Australia \nFIND OUT MORE
URL:https://melanoma.org.au/event/trog-2026/
LOCATION:Pullman Albert Park\, 65 Queens Rd\, Melbourne\, Victoria\, 3004\, Australia
CATEGORIES:Conferences
ATTACH;FMTTYPE=image/jpeg:https://melanoma.org.au/wp-content/uploads/2026/02/Trog-600-x-338-px.jpg
END:VEVENT
BEGIN:VEVENT
DTSTART;TZID=Australia/Sydney:20260320T170000
DTEND;TZID=Australia/Sydney:20260320T170000
DTSTAMP:20260425T040303
CREATED:20260106T033820Z
LAST-MODIFIED:20260107T084506Z
UID:10000227-1774026000-1774026000@melanoma.org.au
SUMMARY:Friends of the Mater 2026 Annual Grants
DESCRIPTION:The Friends of the Mater Foundation provides an annual grant funding program to support and enhance high quality patient care\, clinical practice\, research and education across the Mater Hospital campus. Foundation grants are available to medical clinicians\, nurses and allied health professionals at the Mater and will be awarded according to potential benefits to patient care outcomes. The amount of grant funding available each year is determined by the interest earnt on the Foundation’s capital. \nThe Friends of The Mater Foundation allocated grants to advance The Mater Hospital as a Centre of excellence in health services and to achieve the best healthcare outcomes for patients. \nGrants are awarded for equipment\, facilities\, research and clinical education programs. \nApplications are invited from medical clinicians\, nurses and allied health professionals across all departments of the Mater Hospital. \nKey Dates\nApplications close: Friday 20 March 2026\, 5.00pm AEDT \nSEE WEBSITE
URL:https://melanoma.org.au/event/fom-annual-grants-2026/
CATEGORIES:Grants,Infrastructure & Equipment
ATTACH;FMTTYPE=image/jpeg:https://melanoma.org.au/wp-content/uploads/2025/12/Friends-Of-Mater-600-x-338-px.jpg
END:VEVENT
END:VCALENDAR