BEGIN:VCALENDAR
VERSION:2.0
PRODID:-//Melanoma Institute Australia - ECPv6.15.20//NONSGML v1.0//EN
CALSCALE:GREGORIAN
METHOD:PUBLISH
X-WR-CALNAME:Melanoma Institute Australia
X-ORIGINAL-URL:https://melanoma.org.au
X-WR-CALDESC:Events for Melanoma Institute Australia
REFRESH-INTERVAL;VALUE=DURATION:PT1H
X-Robots-Tag:noindex
X-PUBLISHED-TTL:PT1H
BEGIN:VTIMEZONE
TZID:America/Los_Angeles
BEGIN:DAYLIGHT
TZOFFSETFROM:-0800
TZOFFSETTO:-0700
TZNAME:PDT
DTSTART:20250309T100000
END:DAYLIGHT
BEGIN:STANDARD
TZOFFSETFROM:-0700
TZOFFSETTO:-0800
TZNAME:PST
DTSTART:20251102T090000
END:STANDARD
BEGIN:DAYLIGHT
TZOFFSETFROM:-0800
TZOFFSETTO:-0700
TZNAME:PDT
DTSTART:20260308T100000
END:DAYLIGHT
BEGIN:STANDARD
TZOFFSETFROM:-0700
TZOFFSETTO:-0800
TZNAME:PST
DTSTART:20261101T090000
END:STANDARD
BEGIN:DAYLIGHT
TZOFFSETFROM:-0800
TZOFFSETTO:-0700
TZNAME:PDT
DTSTART:20270314T100000
END:DAYLIGHT
BEGIN:STANDARD
TZOFFSETFROM:-0700
TZOFFSETTO:-0800
TZNAME:PST
DTSTART:20271107T090000
END:STANDARD
END:VTIMEZONE
BEGIN:VEVENT
DTSTART;VALUE=DATE:20260218
DTEND;VALUE=DATE:20260222
DTSTAMP:20260425T000824
CREATED:20251201T051717Z
LAST-MODIFIED:20251201T053438Z
UID:10000216-1771372800-1771718399@melanoma.org.au
SUMMARY:AACR Immuno-Oncology Conference (AACR IO)
DESCRIPTION:Discovery and Innovation in Cancer Immunology: Revolutionizing Treatment through Immunotherapy \nThe AACR Immuno-Oncology Conference (AACR IO) is being held in Los Angeles from 18 to 23 February 2026. \nAACR IO encompasses the very best of basic\, translational\, and clinical research in immunology\, inflammation\, and immunotherapies for cancer\, including immuno-oncology (IO) drugs\, inflammatory modulators\, vaccines\, and cellular therapies. \nThe inaugural AACR IO program in 2026 attracted over 600 scientists\, translational researchers\, clinical investigators\, regulators\, industry\, investors\, and lay press. \nThe unique format will include a mix of keynote lectures\, major symposia\, spotlight sessions\, educational sessions\, special sessions\, and poster sessions with exhibits. \nLocation: JW Marriott Los Angeles L.A. LIVE\, 900 W Olympic Blvd\, Los Angeles\, CA 90015\, United States \nKey Dates: \nAdvance Registration Deadline: Friday 9 January 2026. \nClinical Trial and Late-Breaking Abstract Submission Deadline: Tuesday 20 January 2026\, 1 p.m. ET (opens Monday 5 January 2026) \nFIND OUT MORE
URL:https://melanoma.org.au/event/2026-aacr-immuno-oncology-conference/
LOCATION:JW Marriott Los Angeles\, 900 W Olympic Boulevard\, Los Angeles\, CA\, 90015\, United States
CATEGORIES:Conferences
ATTACH;FMTTYPE=image/png:https://melanoma.org.au/wp-content/uploads/2025/12/AACR-IO-1.png
END:VEVENT
END:VCALENDAR