BEGIN:VCALENDAR
VERSION:2.0
PRODID:-//Melanoma Institute Australia - ECPv6.15.20//NONSGML v1.0//EN
CALSCALE:GREGORIAN
METHOD:PUBLISH
X-ORIGINAL-URL:https://melanoma.org.au
X-WR-CALDESC:Events for Melanoma Institute Australia
REFRESH-INTERVAL;VALUE=DURATION:PT1H
X-Robots-Tag:noindex
X-PUBLISHED-TTL:PT1H
BEGIN:VTIMEZONE
TZID:Australia/Sydney
BEGIN:STANDARD
TZOFFSETFROM:+1100
TZOFFSETTO:+1000
TZNAME:AEST
DTSTART:20250405T160000
END:STANDARD
BEGIN:DAYLIGHT
TZOFFSETFROM:+1000
TZOFFSETTO:+1100
TZNAME:AEDT
DTSTART:20251004T160000
END:DAYLIGHT
BEGIN:STANDARD
TZOFFSETFROM:+1100
TZOFFSETTO:+1000
TZNAME:AEST
DTSTART:20260404T160000
END:STANDARD
BEGIN:DAYLIGHT
TZOFFSETFROM:+1000
TZOFFSETTO:+1100
TZNAME:AEDT
DTSTART:20261003T160000
END:DAYLIGHT
BEGIN:STANDARD
TZOFFSETFROM:+1100
TZOFFSETTO:+1000
TZNAME:AEST
DTSTART:20270403T160000
END:STANDARD
BEGIN:DAYLIGHT
TZOFFSETFROM:+1000
TZOFFSETTO:+1100
TZNAME:AEDT
DTSTART:20271002T160000
END:DAYLIGHT
END:VTIMEZONE
BEGIN:VEVENT
DTSTART;TZID=Australia/Sydney:20260221T083000
DTEND;TZID=Australia/Sydney:20260221T130000
DTSTAMP:20260424T142931
CREATED:20251216T010035Z
LAST-MODIFIED:20260217T061841Z
UID:10000226-1771662600-1771678800@melanoma.org.au
SUMMARY:Hybrid GP Education Breakfast: A Deep Dive into Diagnosing Acral and Nodular Melanoma
DESCRIPTION:Join us for an advanced hybrid educational breakfast designed for Skin Cancer Doctors and experienced General Practitioners wanting to strengthen their dermoscopy skills and build greater confidence in diagnosing less common melanoma subtypes. \nHosted by Melanoma Institute Australia and held in partnership with St Vincent’s Hospital Australia\, this engaging workshop will focus on diagnosing acral and nodular melanoma—aggressive subtypes that can be difficult to recognise\, even for experienced clinicians. \nDesigned for clinicians already familiar with dermoscopy and looking to extend their expertise\, the program includes expert presentations\, case discussions\, small-group learning\, and interactive panel sessions exploring the dermoscopic structures essential for identifying these challenging melanoma types. \nAGENDA* \n8:30am – Registration opens with breakfast served on arrival \nSESSION 1\n9:00am ­– Welcome and housekeeping – Prof Pascale Guitera (Dermatologist\, MIA) – Livestream opens\n9:05am – Dermoscopy of acral melanoma – Dr Lachlan Byth (Dermatologist\, MIA)\n9:55am – Dermoscopy of nodular melanoma – Prof Pascale Guitera\n10:45am – Q&A – Led by A/Prof Paul Fishburn and featuring Dr Lachlan Byth and Prof Pascale Guitera on panel – Livestream closes\n11:00am – Morning tea\n \nSESSION 2\n11:30am – Interactive case study based small group discussions facilitated by: \n\nA/Prof Paul Fishburn and Dr Christene Mikhail in Wollstonecraft (The Poche Centre)\nDr Tracey Purnell in Wagga Wagga (Notre Dame University Wagga)\n\n*Program and speakers are subject to change. \nViewing options: \n\nOnline for the 2-hr livestream didactic lectures and Q&A only (2 EA CPD hours)\nIn person at The Poche Centre\, Wollstonecraft to view the live lectures\, Q&A and a facilitated small-group case discussion (2 EA and 1.5 RP CPD hours)\nIn person at our satellite meeting in Wagga Wagga to view the livestream lectures together followed by an in-person facilitated small-group case discussion (2 EA and 1.5 RP CPD hours)\n\nEVENT DETAILS:\nDate: Saturday 21 February 2026\nTimes: \n\nIn-Person – 8:30AM–1:00PM AEDT\nOnline – 9:00AM–11:00AM AEDT\n\nLOCATION:\nIn-Person: \n\nThe Poche Centre\, 40 Rocklands Rd\, Wollstonecraft\nNotre Dame University Wagga\, 40 Hardy Ave\, Wagga Wagga\n\nOnline: A unique link will be sent to you before the event. \nCOST: Free \nCPD: \nA certificate of attendance will be provided. This event has been accredited for with RACGP (ID: 1436973)\, ACRRM (ID: 39615) and SkinPro CPD (ID: 10121). \nAttendees will either receive 2 EA CPD hours (if viewing online) or 2 EA and 1.5 RP CPD hours if viewing at one of our in-person locations. \nREGISTER NOW
URL:https://melanoma.org.au/event/hybrid-gp-education-breakfast-a-deep-dive-into-diagnosing-acral-and-nodular-melanoma/
LOCATION:The Poche Centre (or online)\, 40 Rocklands Road\, Wollstonecraft\, NSW\, 2065\, Australia
CATEGORIES:Education,Clinician Education
ATTACH;FMTTYPE=image/jpeg:https://melanoma.org.au/wp-content/uploads/2025/12/2026_GP-Education-Breakfast-Acral-Nodular_web-1200-x-675.jpg
END:VEVENT
END:VCALENDAR