BEGIN:VCALENDAR
VERSION:2.0
PRODID:-//Melanoma Institute Australia - ECPv6.15.20//NONSGML v1.0//EN
CALSCALE:GREGORIAN
METHOD:PUBLISH
X-ORIGINAL-URL:https://melanoma.org.au
X-WR-CALDESC:Events for Melanoma Institute Australia
REFRESH-INTERVAL;VALUE=DURATION:PT1H
X-Robots-Tag:noindex
X-PUBLISHED-TTL:PT1H
BEGIN:VTIMEZONE
TZID:Australia/Sydney
BEGIN:STANDARD
TZOFFSETFROM:+1100
TZOFFSETTO:+1000
TZNAME:AEST
DTSTART:20250405T160000
END:STANDARD
BEGIN:DAYLIGHT
TZOFFSETFROM:+1000
TZOFFSETTO:+1100
TZNAME:AEDT
DTSTART:20251004T160000
END:DAYLIGHT
BEGIN:STANDARD
TZOFFSETFROM:+1100
TZOFFSETTO:+1000
TZNAME:AEST
DTSTART:20260404T160000
END:STANDARD
BEGIN:DAYLIGHT
TZOFFSETFROM:+1000
TZOFFSETTO:+1100
TZNAME:AEDT
DTSTART:20261003T160000
END:DAYLIGHT
BEGIN:STANDARD
TZOFFSETFROM:+1100
TZOFFSETTO:+1000
TZNAME:AEST
DTSTART:20270403T160000
END:STANDARD
BEGIN:DAYLIGHT
TZOFFSETFROM:+1000
TZOFFSETTO:+1100
TZNAME:AEDT
DTSTART:20271002T160000
END:DAYLIGHT
END:VTIMEZONE
BEGIN:VEVENT
DTSTART;VALUE=DATE:20260503
DTEND;VALUE=DATE:20260504
DTSTAMP:20260424T104932
CREATED:20251015T234443Z
LAST-MODIFIED:20251015T234443Z
UID:10000201-1777766400-1777852799@melanoma.org.au
SUMMARY:Mornington Running Festival 2026
DESCRIPTION:The Mornington Running Festival returns to Mornington Peninsula on the 3 May 2026. \nSet in what is one of Australia’s most stunning courses to run\, winding along the esplanade from Mornington to Mt Martha and back. This unique experience to run or walk along this road free from traffic is unmissable. \nThe weekend features a variety of running & walking events to suit all ages and fitness levels\, with race lengths ranging from the 1km Kids Dash to the Half Marathon. \nWhen you nominate MIA as your charity of choice\, funds raised support our life-saving melanoma research\, so we can reach our mission of zero deaths from melanoma. \nMake sure you set up your fundraising page\, as well as registering for the event – both can be done at the link below. \nREGISTER NOW
URL:https://melanoma.org.au/event/mornington-running-festival-2026/
LOCATION:QLD
CATEGORIES:Fundraiser,Running Events
ATTACH;FMTTYPE=image/jpeg:https://melanoma.org.au/wp-content/uploads/2025/04/Mornington-Running-Festival.jpg
END:VEVENT
END:VCALENDAR