BEGIN:VCALENDAR
VERSION:2.0
PRODID:-//Melanoma Institute Australia - ECPv6.15.20//NONSGML v1.0//EN
CALSCALE:GREGORIAN
METHOD:PUBLISH
X-WR-CALNAME:Melanoma Institute Australia
X-ORIGINAL-URL:https://melanoma.org.au
X-WR-CALDESC:Events for Melanoma Institute Australia
REFRESH-INTERVAL;VALUE=DURATION:PT1H
X-Robots-Tag:noindex
X-PUBLISHED-TTL:PT1H
BEGIN:VTIMEZONE
TZID:Australia/Sydney
BEGIN:STANDARD
TZOFFSETFROM:+1100
TZOFFSETTO:+1000
TZNAME:AEST
DTSTART:20250405T160000
END:STANDARD
BEGIN:DAYLIGHT
TZOFFSETFROM:+1000
TZOFFSETTO:+1100
TZNAME:AEDT
DTSTART:20251004T160000
END:DAYLIGHT
BEGIN:STANDARD
TZOFFSETFROM:+1100
TZOFFSETTO:+1000
TZNAME:AEST
DTSTART:20260404T160000
END:STANDARD
BEGIN:DAYLIGHT
TZOFFSETFROM:+1000
TZOFFSETTO:+1100
TZNAME:AEDT
DTSTART:20261003T160000
END:DAYLIGHT
BEGIN:STANDARD
TZOFFSETFROM:+1100
TZOFFSETTO:+1000
TZNAME:AEST
DTSTART:20270403T160000
END:STANDARD
BEGIN:DAYLIGHT
TZOFFSETFROM:+1000
TZOFFSETTO:+1100
TZNAME:AEDT
DTSTART:20271002T160000
END:DAYLIGHT
END:VTIMEZONE
BEGIN:VEVENT
DTSTART;TZID=Australia/Sydney:20260306T235900
DTEND;TZID=Australia/Sydney:20260306T235900
DTSTAMP:20260420T050148
CREATED:20260211T233409Z
LAST-MODIFIED:20260211T233409Z
UID:10000254-1772841540-1772841540@melanoma.org.au
SUMMARY:CPC Catchlove Sylvan Mid-Career Researcher Fellowship
DESCRIPTION:Applications for the Charles Perkins Centre Catchlove Sylvan Mid-Career Researcher Fellowship 2026 are now open. Inaugurated in 2025\, this bridging support scheme is designed to help our best mid-career researchers remain in academia. \nThe Fellowship is made possible with generous support from our long-time friends\, philanthropists\, Dr Barry Catchlove and Professor Louise Sylvan. In its inaugural year\, the scheme supported three of our brightest mid-career researchers. \nIn 2026\, up to three awards\, with a maximum value of $100\,000 each\, will be available for Charles Perkins Centre mid-career researchers. \nKey Dates \nApplications close: Friday 6 March 2026 \nSEE GRANT GUIDELINES PDFSEE WEBSITE
URL:https://melanoma.org.au/event/cpc-catchlove-fellowship/
CATEGORIES:Grants,Early to Mid Career Researcher
ATTACH;FMTTYPE=image/jpeg:https://melanoma.org.au/wp-content/uploads/2026/02/Charles_Perkins_Centre-600-x-338-px.jpg
END:VEVENT
END:VCALENDAR