BEGIN:VCALENDAR
VERSION:2.0
PRODID:-//Melanoma Institute Australia - ECPv6.15.20//NONSGML v1.0//EN
CALSCALE:GREGORIAN
METHOD:PUBLISH
X-ORIGINAL-URL:https://melanoma.org.au
X-WR-CALDESC:Events for Melanoma Institute Australia
REFRESH-INTERVAL;VALUE=DURATION:PT1H
X-Robots-Tag:noindex
X-PUBLISHED-TTL:PT1H
BEGIN:VTIMEZONE
TZID:Australia/Hobart
BEGIN:STANDARD
TZOFFSETFROM:+1100
TZOFFSETTO:+1000
TZNAME:AEST
DTSTART:20220402T160000
END:STANDARD
BEGIN:DAYLIGHT
TZOFFSETFROM:+1000
TZOFFSETTO:+1100
TZNAME:AEDT
DTSTART:20221001T160000
END:DAYLIGHT
BEGIN:STANDARD
TZOFFSETFROM:+1100
TZOFFSETTO:+1000
TZNAME:AEST
DTSTART:20230401T160000
END:STANDARD
BEGIN:DAYLIGHT
TZOFFSETFROM:+1000
TZOFFSETTO:+1100
TZNAME:AEDT
DTSTART:20230930T160000
END:DAYLIGHT
BEGIN:STANDARD
TZOFFSETFROM:+1100
TZOFFSETTO:+1000
TZNAME:AEST
DTSTART:20240406T160000
END:STANDARD
BEGIN:DAYLIGHT
TZOFFSETFROM:+1000
TZOFFSETTO:+1100
TZNAME:AEDT
DTSTART:20241005T160000
END:DAYLIGHT
END:VTIMEZONE
BEGIN:VTIMEZONE
TZID:Australia/Sydney
BEGIN:STANDARD
TZOFFSETFROM:+1100
TZOFFSETTO:+1000
TZNAME:AEST
DTSTART:20220402T160000
END:STANDARD
BEGIN:DAYLIGHT
TZOFFSETFROM:+1000
TZOFFSETTO:+1100
TZNAME:AEDT
DTSTART:20221001T160000
END:DAYLIGHT
BEGIN:STANDARD
TZOFFSETFROM:+1100
TZOFFSETTO:+1000
TZNAME:AEST
DTSTART:20230401T160000
END:STANDARD
BEGIN:DAYLIGHT
TZOFFSETFROM:+1000
TZOFFSETTO:+1100
TZNAME:AEDT
DTSTART:20230930T160000
END:DAYLIGHT
BEGIN:STANDARD
TZOFFSETFROM:+1100
TZOFFSETTO:+1000
TZNAME:AEST
DTSTART:20240406T160000
END:STANDARD
BEGIN:DAYLIGHT
TZOFFSETFROM:+1000
TZOFFSETTO:+1100
TZNAME:AEDT
DTSTART:20241005T160000
END:DAYLIGHT
END:VTIMEZONE
BEGIN:VTIMEZONE
TZID:Australia/Perth
BEGIN:STANDARD
TZOFFSETFROM:+0800
TZOFFSETTO:+0800
TZNAME:AWST
DTSTART:20220101T000000
END:STANDARD
END:VTIMEZONE
BEGIN:VEVENT
DTSTART;TZID=Australia/Hobart:20231105T100000
DTEND;TZID=Australia/Hobart:20231105T170000
DTSTAMP:20260424T181144
CREATED:20231029T225811Z
LAST-MODIFIED:20231029T230358Z
UID:10000100-1699178400-1699203600@melanoma.org.au
SUMMARY:Run from the Sun
DESCRIPTION:Join us for Run from the Sun on Sunday 5 November. It’s a fun day out in southern Tasmania for motorbike riders (and cars) to increase awareness of melanoma and raise funds for Melanoma Institute Australia research. \nThe meeting point is the Margate Tavern\, with registration from 10am. \nWe’ll set off at 10:30am. It promises to be a fun day with auctions and prize draws. Cars can join in too! \nAny questions\, email Ken using the button below. \nANY QUESTIONS? EMAIL KEN
URL:https://melanoma.org.au/event/run-from-the-sun/
LOCATION:Margate Tavern\, 1704 Channel Highway\, Margate\, Tasmania\, 7054\, Australia
CATEGORIES:Fundraiser,Tasmania
ATTACH;FMTTYPE=image/jpeg:https://melanoma.org.au/wp-content/uploads/2023/10/Run-from-the-Sun-.jpg
ORGANIZER;CN="Melanoma Institute Australia":MAILTO:events@melanoma.org.au
END:VEVENT
BEGIN:VEVENT
DTSTART;TZID=Australia/Sydney:20231112T090000
DTEND;TZID=Australia/Sydney:20231112T150000
DTSTAMP:20260424T181144
CREATED:20231030T000549Z
LAST-MODIFIED:20231030T001638Z
UID:10000101-1699779600-1699801200@melanoma.org.au
SUMMARY:Amie's Softball Day
DESCRIPTION:Join in the fun at Amie’s Softball Day\, being held in Wagga Wagga on Sunday 12 November at 9am. \nThis annual awareness and fundraising event\, hosted by MIA Amie St Clair Melanoma\, is held in honour of Amie St Clair who was an avid softball player. \nIt is a mixed social competition for players 18 years and over with prizes\, raffles and a BBQ. Please BYO playing equipment. Hats must be worn! Cost is $15 per person. \nGet your friends together and register your team – or we can find you a team. Registrations close Thursday 9 November. \nTo register contact Moo on 0423 407 001 – or email her using the button below. \nREGISTER NOW
URL:https://melanoma.org.au/event/amies-softball-day/
LOCATION:French Fields\, 48 Walteela Ave\, Mount Austin\, NSW\, 2650\, Australia
CATEGORIES:Fundraiser,Amie St Clair,Awareness
ATTACH;FMTTYPE=image/jpeg:https://melanoma.org.au/wp-content/uploads/2023/10/ASC-Softball.jpg
END:VEVENT
BEGIN:VEVENT
DTSTART;VALUE=DATE:20231122
DTEND;VALUE=DATE:20231123
DTSTAMP:20260424T181144
CREATED:20231103T004447Z
LAST-MODIFIED:20231103T010321Z
UID:10000103-1700611200-1700697599@melanoma.org.au
SUMMARY:Australian Army Band Kapooka Concert
DESCRIPTION:On Wednesday 22 November\, The Australian Army Band Kapooka will be performing two free concerts at the Wagga Wagga Civic Theatre in support of MIA Amie St Clair. \n\nSince 1952 the Army Recruit Training Centre (ARTC) has been home to the Australian Army Band Kapooka\, a full-time military band. In addition to military and ceremonial roles\, the band provides support to local and regional charitable organisations and communities in the Riverina.\n\n\n \n\n\nOn Wed 22 Nov\, as part of their community contribution\, the Australian Army Band Kapooka will be performing two concerts at the Wagga Wagga Civic Theatre – one at midday\, and one at 6pm.\n\n\n \n\n\nFor these two concerts\, Amie St Clair Melanoma (part of Melanoma Institute Australia) has been selected as the charity partner. \n\n\n \n\n\nTreat yourself to a performance by the Australian Army Band Kapooka. It’s fun for the whole family (& its free!).\n\n\n \n\n\nReserve your free tickets using the buttons – until sold out!\n\n\n\n\n\n\n\nMidday Concert – 12 midday\n\n\n\nRESERVE TICKETS FOR MIDDAY CONCERT \nEvening Concert – 6pm\nRESERVE TICKETS FOR EVENING CONCERT
URL:https://melanoma.org.au/event/aabk-concerts/
LOCATION:Civic Theatre Wagga Wagga\, Burns Way\, off Tarcutta St\, Wagga Wagga\, NSW\, 2650\, Australia
CATEGORIES:Fundraiser,Amie St Clair
ATTACH;FMTTYPE=image/jpeg:https://melanoma.org.au/wp-content/uploads/2023/11/Wagga-band-website.jpg
END:VEVENT
BEGIN:VEVENT
DTSTART;TZID=Australia/Perth:20231123T160000
DTEND;TZID=Australia/Perth:20231123T190000
DTSTAMP:20260424T181144
CREATED:20230908T054619Z
LAST-MODIFIED:20230908T055317Z
UID:10000099-1700755200-1700766000@melanoma.org.au
SUMMARY:Melanoma Community Forum - Perth
DESCRIPTION:Our Melanoma Community Forum is designed to empower patients and their carers with the latest information from expert speakers on melanoma research\, treatment and support. \nWA melanoma patients\, family\, friends and the wider community are all invited to attend this informative and supportive event in the gardens of the Cancer Wellness Centre. \nRefreshments and a light dinner will be served. \nThe event is from 4pm to 7.30pm (Doors open at 3:30pm with refreshments served on arrival) \nCOST: Free \nPlease RSVP by 20 November 2023\, using the button below. \nRSVP NOW
URL:https://melanoma.org.au/event/melanoma-forum-perth-2023/
LOCATION:Cancer Wellness Centre\, 80 Railway St\, Cottesloe\, WA\, 6011\, Australia
CATEGORIES:WA
ATTACH;FMTTYPE=image/jpeg:https://melanoma.org.au/wp-content/uploads/2023/09/Perth-Community-Forum.jpg
ORGANIZER;CN="Melanoma Institute Australia WA":MAILTO:wa@melanoma.org.au
END:VEVENT
END:VCALENDAR