BEGIN:VCALENDAR
VERSION:2.0
PRODID:-//Melanoma Institute Australia - ECPv6.15.20//NONSGML v1.0//EN
CALSCALE:GREGORIAN
METHOD:PUBLISH
X-ORIGINAL-URL:https://melanoma.org.au
X-WR-CALDESC:Events for Melanoma Institute Australia
REFRESH-INTERVAL;VALUE=DURATION:PT1H
X-Robots-Tag:noindex
X-PUBLISHED-TTL:PT1H
BEGIN:VTIMEZONE
TZID:Australia/Sydney
BEGIN:STANDARD
TZOFFSETFROM:+1100
TZOFFSETTO:+1000
TZNAME:AEST
DTSTART:20230401T160000
END:STANDARD
BEGIN:DAYLIGHT
TZOFFSETFROM:+1000
TZOFFSETTO:+1100
TZNAME:AEDT
DTSTART:20230930T160000
END:DAYLIGHT
BEGIN:STANDARD
TZOFFSETFROM:+1100
TZOFFSETTO:+1000
TZNAME:AEST
DTSTART:20240406T160000
END:STANDARD
BEGIN:DAYLIGHT
TZOFFSETFROM:+1000
TZOFFSETTO:+1100
TZNAME:AEDT
DTSTART:20241005T160000
END:DAYLIGHT
BEGIN:STANDARD
TZOFFSETFROM:+1100
TZOFFSETTO:+1000
TZNAME:AEST
DTSTART:20250405T160000
END:STANDARD
BEGIN:DAYLIGHT
TZOFFSETFROM:+1000
TZOFFSETTO:+1100
TZNAME:AEDT
DTSTART:20251004T160000
END:DAYLIGHT
END:VTIMEZONE
BEGIN:VTIMEZONE
TZID:Australia/Hobart
BEGIN:STANDARD
TZOFFSETFROM:+1100
TZOFFSETTO:+1000
TZNAME:AEST
DTSTART:20230401T160000
END:STANDARD
BEGIN:DAYLIGHT
TZOFFSETFROM:+1000
TZOFFSETTO:+1100
TZNAME:AEDT
DTSTART:20230930T160000
END:DAYLIGHT
BEGIN:STANDARD
TZOFFSETFROM:+1100
TZOFFSETTO:+1000
TZNAME:AEST
DTSTART:20240406T160000
END:STANDARD
BEGIN:DAYLIGHT
TZOFFSETFROM:+1000
TZOFFSETTO:+1100
TZNAME:AEDT
DTSTART:20241005T160000
END:DAYLIGHT
BEGIN:STANDARD
TZOFFSETFROM:+1100
TZOFFSETTO:+1000
TZNAME:AEST
DTSTART:20250405T160000
END:STANDARD
BEGIN:DAYLIGHT
TZOFFSETFROM:+1000
TZOFFSETTO:+1100
TZNAME:AEDT
DTSTART:20251004T160000
END:DAYLIGHT
END:VTIMEZONE
BEGIN:VEVENT
DTSTART;VALUE=DATE:20240604
DTEND;VALUE=DATE:20240619
DTSTAMP:20260423T070807
CREATED:20240402T002727Z
LAST-MODIFIED:20240619T064346Z
UID:10000108-1717459200-1718755199@melanoma.org.au
SUMMARY:MPA-MIA Community Webinar Series 2024
DESCRIPTION:Join us for an informative series of three live webinars for patients with melanoma and their carers. \nHosted by Melanoma Patients Australia (MPA) and Melanoma Institute Australia (MIA)\, each week our free webinar will provide you with a rare opportunity to hear from a MIA experts and a MPA community member as they focus on a different topic of interest each week. The webinar will conclude with a Q&A panel discussion. \nThe webinars are held every Tuesday evening for three weeks. Please click on the registration link below for each webinar that you’d like to attend. \nNote that the webinars are held from 7pm to 8pm AEST. \nCost: Free \nWebinar One – Sun protection after melanoma: Living well\nEvent was on Tuesday 4 June 2024\n7pm – 8pm (AEST) \nThe clinical presentations will be delivered by:\n• Dr Lisa Gomes – Senior Clinical Psychologist\, Melanoma Institute Australia\n• Dr Lisa Abbott – Dermatologist\, Melanoma Institute Australia \nMary Anne Oliver\, MPA Community Member will also share her experience \nCost: Free \nWATCH WEBINAR RECORDING Webinar Two – Understanding the role of the gut microbiome in immunotherapy treatment for melanoma\nWebinar was held on Tuesday 11 June 2024 \nThe clinical presentations were delivered by:\n• A/Prof Ines Silva – Medical Oncologist\, Melanoma Institute Australia\n• Dr Rebecca Simpson – Postdoctoral Researcher\, Melanoma Institute Australia \nDavid Thiele\, MPA Community Member\, shared his experience. \nWATCH WEBINAR TWO RECORDINGWebinar Three – Melanoma in situ explained: A patient’s guide to living well\nWebinar was held on Tuesday 18 June 2024 \nThe clinical presentations were delivered by:\n• A/Prof Linda Martin – Dermatologist\, Melanoma Institute Australia\n• Claire Gore – Clinical Psychology Registrar\, Melanoma Institute Australia \nJayde Feilo\, MPA Community Member also shares her experience. \nWATCH WEBINAR RECORDING
URL:https://melanoma.org.au/event/mpa-mia-community-webinar-series-2024/
LOCATION:Online via Zoom
CATEGORIES:Education,Patient Education
ATTACH;FMTTYPE=image/png:https://melanoma.org.au/wp-content/uploads/2024/04/MIAE0327-2024-MPA_MIA-Community-Webinar-Series_MIA-WEB-BANNER-series_1200x675.png
END:VEVENT
BEGIN:VEVENT
DTSTART;TZID=Australia/Sydney:20240615T083000
DTEND;TZID=Australia/Sydney:20240615T133000
DTSTAMP:20260423T070807
CREATED:20240408T031808Z
LAST-MODIFIED:20240526T102959Z
UID:10000109-1718440200-1718458200@melanoma.org.au
SUMMARY:Riverina GP Dermoscopy Workshop: Melanoma in Focus
DESCRIPTION:GPs are invited to join our dermoscopy workshop hosted by Melanoma Institute Australia. \nDermoscopy is an invaluable tool for GPs\, offering a detailed assessment of skin lesions in everyday practice. \nIn this informative half-day session\, we provide an introduction to dermoscopy\, highlighting its essential role in diagnosing and monitoring melanoma and other skin lesions within the context of general practice. \nParticipants will build confidence by gaining foundational knowledge and practical skills in identifying structures and distinguishing skin lesions\, including melanoma\, through the “Chaos and clues” algorithm. Case studies will also be presented. \nAs understanding dermatopathology is fundamentally important in comprehending dermoscopy\, our workshop will also integrate essential aspects of dermatopathology\, enriching participants’ knowledge and enhancing their ability to interpret dermoscopic findings effectively. \nJoin us to develop your understanding and refine your capabilities in dermoscopy\, contributing to more effective melanoma detection and monitoring in clinical practice. \nLearning outcomes:  \n\nExplain the process and benefits for evaluating skin lesions under dermoscopy in general practice.\nRecognise the different clues to melanoma using dermoscopy.\nDescribe dermoscopic features of skin lesions using the ‘Chaos and clues’ algorithm.\nUnderstand the importance of dermoscopic histopathological correlation\n\nPresenters: \n\nA/Prof Paul Fishburn – Skin Cancer GP\, Norwest Skin Cancer Centre | Education Committee Member\, Melanoma Institute Australia | Associate Professor of Medicine\, University of Queensland\nDr Kirstin McKenzie – Histopathologist\, Douglass Hanly Moir Pathology\n\nCost: Free \nCPD: This is an RACGP-approved CPD activity under the RACGP CPD Program (Activity No. 813691; 4 hr EA). A certificate of attendance will also be provided for 4 hours of CPD. \nREGISTER NOW
URL:https://melanoma.org.au/event/riverina-gp-dermoscopy-workshop/
LOCATION:Notre Dame University (Wagga Wagga Clinical School)\, 40 Hardy Avenue\, Wagga Wagga\, NSW\, 2650\, Australia
CATEGORIES:Education,Amie St Clair,Clinician Education
ATTACH;FMTTYPE=image/jpeg:https://melanoma.org.au/wp-content/uploads/2024/04/GP-Dermoscopy-Workshop-website.jpg
ORGANIZER;CN="Melanoma Institute Australia Education Team":MAILTO:education@melanoma.org.au
END:VEVENT
BEGIN:VEVENT
DTSTART;TZID=Australia/Hobart:20240626T180000
DTEND;TZID=Australia/Hobart:20240626T210000
DTSTAMP:20260423T070807
CREATED:20240526T105920Z
LAST-MODIFIED:20240613T224510Z
UID:10000113-1719424800-1719435600@melanoma.org.au
SUMMARY:Living Beyond Cure - Tas Clinical Education Evening
DESCRIPTION:Melanoma Institute Australia is pleased to invite you to our educational dinner meeting for doctors\, nurses and allied health practitioners with an interest in skin cancer medicine. \nHear from experts as they discuss the management of patients on immunotherapy as well as local support options for patients. With many patients surviving mestatic melanoma\, this evening aims to broaden your knowledge in a changing clinical environment. \nPRESENTATIONS*\n• Systemic therapy – long-term data outcomes – Dr Cristina Moldovan (Medical Oncologist)\n• Current patient support options in Tasmania – Di Mason (State Manager Melanoma Institute Australia\, Tasmania) and Claire Prior (Director\, Supportive Care\, Cancer Council Tasmania)\n• Cognitive impacts of immunotherapy treatment – Dr Anand Kumar (Geriatric and Palliative Medicine\, Royal Hobart Hospital)\n• Psychological impacts of oncology care – Dr Kym Nutting (Clinical Psychologist – Oncology) \n*Program is subject to change \nDATE:\nWednesday 26 June 2024 \nTIME:\n6.00pm to 9.00pm\n(Note: Dinner will be served throughout the presentations) \nLOCATION:\nCenturion 1 Crowne Plaza Hotel 110 Liverpool St Hobart TAS \nCOST: Free \nRSVP: Wednesday 19 June \nPlease note this is a face-to-face event only.\nSeats are strictly limited so please reserve your ticket ASAP and advise us if you’re no longer able to make it. \nREGISTER NOW
URL:https://melanoma.org.au/event/survivorship-living-beyond-cure-tasmanian-clinical-education-evening/
LOCATION:Crowne Plaza (Aura Event Space – Level 12)\, 110 Liverpool St\, Hobart\, TAS\, 6000\, Australia
CATEGORIES:Education,Clinician Education,Tasmania
ATTACH;FMTTYPE=image/jpeg:https://melanoma.org.au/wp-content/uploads/2024/05/Survivorship-Clinical-Education-Evening.jpg
ORGANIZER;CN="Melanoma Institute Australia Education Team":MAILTO:education@melanoma.org.au
END:VEVENT
BEGIN:VEVENT
DTSTART;TZID=Australia/Hobart:20240629T083000
DTEND;TZID=Australia/Hobart:20240629T160000
DTSTAMP:20260423T070807
CREATED:02020613T064803Z
LAST-MODIFIED:20240614T012320Z
UID:10000095-1719649800-1719676800@melanoma.org.au
SUMMARY:Brendon Browning Memorial Day 2024
DESCRIPTION:Join us for a day of AFL action and a ticketed lunch at the annual Brighton Football Club Brendon Browning Memorial Day on Saturday 29th June. \nEnjoy a day of AFL action at the annual Brendon Browning Memorial Day in Pontville\, Tasmania\, on Saturday 29 June. Hosted by Brighton Football Club\, Brendon Browning Memorial Day honours the life of much-loved player Brendon Browning (‘Horse’)\, who lost his life to melanoma at just 48 years of age. \nGates open at 8.30am and there will be four AFL games between Brighton and New Norfolk to enjoy on the day\, with a $10 entry fee at the gate. \nColts 10am\nReserves 12pm\nSeniors 2pm\nWomens 4:30pm\n(Game times may vary)\n\nA highlight of the day is the Brendon Browning Memorial Lunch\, a ticketed event at 12.30pm in The Robins Nest Function Centre. \nGuest speaker will be local cricketing legend Brett Geeves\, and there will be raffles\, auctions and merchandise sales of beanies\, stubby holders and Tshirts with Brendon’s iconic number 12 on them. \nLunch tickets are $50\, which includes $10 gate entry. \nBUY TICKETS TO LUNCH Photo by Eliza Howlett. 
URL:https://melanoma.org.au/event/brendon-browning-memorial-day/
LOCATION:Brighton Football Club\, Pontville Oval\, 80 Midland Hwy\, Pontville\, TAS\, 7030\, Australia
CATEGORIES:Tasmania
ATTACH;FMTTYPE=image/jpeg:https://melanoma.org.au/wp-content/uploads/0202/06/MIAT0108_BB2024_1200x675_ENEWS.jpg
END:VEVENT
BEGIN:VEVENT
DTSTART;TZID=Australia/Sydney:20240629T180000
DTEND;TZID=Australia/Sydney:20240629T230000
DTSTAMP:20260423T070807
CREATED:20240409T042016Z
LAST-MODIFIED:20240625T031508Z
UID:10000110-1719684000-1719702000@melanoma.org.au
SUMMARY:MIA Amie St Clair Annual Ball 2024
DESCRIPTION:Our 13th Annual MIA Amie St Clair Ball has a very special guest speaker and a Gatsby theme!\nJoin us for a roaring good time at our Gatsby-themed MIA Amie St Clair Melanoma Annual Ball. \nIt’s a fantastic opportunity to kick up your heels for a good cause\, and also hear the inspiring words of a very special guest speaker: Professor Richard Scolyer AO\, Co-Medical Director of Melanoma Institute Australia and the joint 2024 Australian of the Year. \nIt’s set to be a night to remember with dinner\, dancing\, live entertainment by the Australian Army Band Kapooka\, auctions\, raffles\, and a 1920s party atmosphere. \nTickets are $130 each.\nGather your friends\, organise a table and kick up your heels at our annual ball. \nJazz up your outfit with a touch of 1920’s style! \nAll funds raised support melanoma research and services in the Riverina. \nSponsorship Opportunities are available – For more details on Sponsorship Packages\, please email Moo before purchasing tickets – amanda.hubbard@melanoma.org.au \nBUY TICKETSIf you can’t attend the the Gatsby-themed MIA Amie St Clair Melanoma Annual Ball\, but would like to support please donate via the button below. \nDONATE TO SUPPORT AMIE ST CLAIR BALL
URL:https://melanoma.org.au/event/amie-st-clair-annual-ball-2024/
LOCATION:The Range Function Centre\, 308 Copland St\, Wagga Wagga\, NSW\, 2650\, Australia
CATEGORIES:Amie St Clair
ATTACH;FMTTYPE=image/jpeg:https://melanoma.org.au/wp-content/uploads/2024/05/Gatsby_SPEAKER_Enews-Header_1200x675.jpg
END:VEVENT
END:VCALENDAR