BEGIN:VCALENDAR
VERSION:2.0
PRODID:-//Melanoma Institute Australia - ECPv6.15.20//NONSGML v1.0//EN
CALSCALE:GREGORIAN
METHOD:PUBLISH
X-WR-CALNAME:Melanoma Institute Australia
X-ORIGINAL-URL:https://melanoma.org.au
X-WR-CALDESC:Events for Melanoma Institute Australia
REFRESH-INTERVAL;VALUE=DURATION:PT1H
X-Robots-Tag:noindex
X-PUBLISHED-TTL:PT1H
BEGIN:VTIMEZONE
TZID:Australia/Sydney
BEGIN:STANDARD
TZOFFSETFROM:+1100
TZOFFSETTO:+1000
TZNAME:AEST
DTSTART:20240406T160000
END:STANDARD
BEGIN:DAYLIGHT
TZOFFSETFROM:+1000
TZOFFSETTO:+1100
TZNAME:AEDT
DTSTART:20241005T160000
END:DAYLIGHT
BEGIN:STANDARD
TZOFFSETFROM:+1100
TZOFFSETTO:+1000
TZNAME:AEST
DTSTART:20250405T160000
END:STANDARD
BEGIN:DAYLIGHT
TZOFFSETFROM:+1000
TZOFFSETTO:+1100
TZNAME:AEDT
DTSTART:20251004T160000
END:DAYLIGHT
BEGIN:STANDARD
TZOFFSETFROM:+1100
TZOFFSETTO:+1000
TZNAME:AEST
DTSTART:20260404T160000
END:STANDARD
BEGIN:DAYLIGHT
TZOFFSETFROM:+1000
TZOFFSETTO:+1100
TZNAME:AEDT
DTSTART:20261003T160000
END:DAYLIGHT
END:VTIMEZONE
BEGIN:VTIMEZONE
TZID:Australia/Melbourne
BEGIN:STANDARD
TZOFFSETFROM:+1100
TZOFFSETTO:+1000
TZNAME:AEST
DTSTART:20240406T160000
END:STANDARD
BEGIN:DAYLIGHT
TZOFFSETFROM:+1000
TZOFFSETTO:+1100
TZNAME:AEDT
DTSTART:20241005T160000
END:DAYLIGHT
BEGIN:STANDARD
TZOFFSETFROM:+1100
TZOFFSETTO:+1000
TZNAME:AEST
DTSTART:20250405T160000
END:STANDARD
BEGIN:DAYLIGHT
TZOFFSETFROM:+1000
TZOFFSETTO:+1100
TZNAME:AEDT
DTSTART:20251004T160000
END:DAYLIGHT
BEGIN:STANDARD
TZOFFSETFROM:+1100
TZOFFSETTO:+1000
TZNAME:AEST
DTSTART:20260404T160000
END:STANDARD
BEGIN:DAYLIGHT
TZOFFSETFROM:+1000
TZOFFSETTO:+1100
TZNAME:AEDT
DTSTART:20261003T160000
END:DAYLIGHT
END:VTIMEZONE
BEGIN:VEVENT
DTSTART;TZID=Australia/Sydney:20250202T070000
DTEND;TZID=Australia/Sydney:20250202T120000
DTSTAMP:20260423T225738
CREATED:20250109T051504Z
LAST-MODIFIED:20250109T051902Z
UID:10000155-1738479600-1738497600@melanoma.org.au
SUMMARY:Cole Classic Ocean Swim 2025
DESCRIPTION:On Sunday\, February 2\, participants in the world’s largest ocean swim\, the Cole Classic\, will dive into the waters off Manly for 1km\, 2km\, and 5km swims. The event kicks off at Shelly Beach and concludes at the iconic Manly Beach\, right in front of the Manly Life Saving Club. \nWhen you nominate MIA as your charity of choice\, funds raised support our life-saving melanoma research\, so we can reach our mission of zero deaths from melanoma. \nMake sure you set up your fundraising page\, as well as registering for the event – both can be done at the link below. \nREGISTER NOW
URL:https://melanoma.org.au/event/cole-classic-ocean-swim-2025/
LOCATION:Ashburner St & South Steyne\, 44 Ashburner St\, Manly\, NSW\, 2025\, Australia
CATEGORIES:Fundraiser
ATTACH;FMTTYPE=image/jpeg:https://melanoma.org.au/wp-content/uploads/2025/01/Cole-Classic-Ocean-Swim-1.jpg
END:VEVENT
BEGIN:VEVENT
DTSTART;TZID=Australia/Melbourne:20250205T170000
DTEND;TZID=Australia/Melbourne:20250205T203000
DTSTAMP:20260423T225738
CREATED:20240924T005808Z
LAST-MODIFIED:20250109T011514Z
UID:10000127-1738774800-1738787400@melanoma.org.au
SUMMARY:Sunset Series 2025 - The Zoo
DESCRIPTION:Join in on the Sunset Series 2025! The Sunset Series is a 3 race event series where you watch the sunset as you take on three of Melbourne’s best tracks. \nSunset Series – The Zoo \nAre you ready for a one of a kind race experience at Melbourne Zoo? You’ll be taken around the habitats of your favourite animals including Lions\, Snow Leopards\, Dingoes\, Tasmanian Devils\, Turtles and more. \nThere is a long and short race on offer\, so you can accept the challenge of either a 4.7km or 7.7km race. \nThe fun doesn’t stop after you’ve smashed your run – wind down and soak up the summer vibes at the Sunset Bar. Celebrate your race on the night and grab a table for you and your friends ahead of time for a sweet deal – a table for 2 and 2 drinks included for just $35. Or\, if you’re with a bigger group\, a table for 4 and 4 drinks included for only $60. Celebrate your achievements and enjoy the great live music and delicious food from local food trucks in our vibrant event village. \nDon’t miss out on the race day energy and summer fun. Round up your mates\, set your goals\, and let’s make this a summer to remember! \nWhen you nominate MIA as your charity of choice\, funds raised support our life-saving melanoma research\, so we can reach our mission of zero deaths from melanoma. \nMake sure you set up your fundraising page\, as well as registering for the event – both can be done at the link below. \nREGISTER NOW
URL:https://melanoma.org.au/event/sunset-series-2025-the-zoo/
LOCATION:Melbourne Zoo\, Elliott Ave\, Parkville\, Melbourne\, VIC\, 3052\, Australia
CATEGORIES:Fundraiser,Running Events
ATTACH;FMTTYPE=image/png:https://melanoma.org.au/wp-content/uploads/2024/09/Sunset-Series-2025.png
END:VEVENT
BEGIN:VEVENT
DTSTART;TZID=Australia/Sydney:20250219T170000
DTEND;TZID=Australia/Sydney:20250219T203000
DTSTAMP:20260423T225738
CREATED:20240924T021516Z
LAST-MODIFIED:20250109T011555Z
UID:10000128-1739984400-1739997000@melanoma.org.au
SUMMARY:Sunset Series 2025 – Princes Park
DESCRIPTION:Join in on the Sunset Series 2025! The Sunset Series is a 3 race event series where you watch the sunset as you take on three of Melbourne’s best tracks. \nSunset Series – Princes Park \nTake on Princes Park for Race 2 of Sunset Series! Keep that summer fitness journey going from Race 1 at The Zoo and give it your all until you reach the glorious finish line. This is the perfect course for you to set a brand new PB – it’s fast and flat! \nThere is a long and short race on offer\, so you can accept the challenge of either a 4km or 8km race. \nNestled in the heart of a beloved inner-Melbourne suburb\, Princes Park will come to life as we run and admire the summer sunset. Stay behind after you cross the finish line and jam to live music\, enjoy tasty bites from local food trucks\, and hang out at the Sunset Bar. \nGrab a picnic rug\, bring your buddies\, and make the most of the night celebrating your wonderful achievement before summer slips away. It’s the perfect way to soak up the season’s vibes! \nWhen you nominate MIA as your charity of choice\, funds raised support our life-saving melanoma research\, so we can reach our mission of zero deaths from melanoma. \n\nMake sure you set up your fundraising page\, as well as registering for the event – both can be done at the link below. \n\nREGISTER NOW
URL:https://melanoma.org.au/event/sunset-series-2025-princes-park/
LOCATION:Princes Park\, Princes Park\, Royal Parade\, Carlton\, VIC\, 3051\, Australia
CATEGORIES:Fundraiser,Running Events
ATTACH;FMTTYPE=image/png:https://melanoma.org.au/wp-content/uploads/2024/09/Sunset-Series-2025-1.png
END:VEVENT
BEGIN:VEVENT
DTSTART;TZID=Australia/Sydney:20250219T173000
DTEND;TZID=Australia/Sydney:20250219T183000
DTSTAMP:20260423T225738
CREATED:20250204T055621Z
LAST-MODIFIED:20250210T031140Z
UID:10000161-1739986200-1739989800@melanoma.org.au
SUMMARY:IAA Summer Sunset Session: Identification of Melanoma During Hearing Tests
DESCRIPTION:Melanoma Institute Australia is pleased to be collaborating with Independent Audiologists Australia to present a webinar on identifying melanoma incidentally in the audiology setting. \nAudiologists are uniquely placed to play a role in early identification of melanoma and other skin lesions of the ears and head\, which may be observed during otoscopy\, headphone placement or hearing aid fitting. Empower yourself to recognise dermatological red flags and know when and how to refer for specialist investigation. \nThis webinar\, presented by MIA’s Dermato-oncology specialist Dr Constanza Ramirez\, contains insights curated specifically for clinicians working in Audiology settings; however all are welcome\, and anyone with an interest in incidental identification of skin cancers of the ear or head is encouraged to attend! \nMIA members are cordially invited to attend at IAA member rates using the discount code 5T57WGSG. \nREGISTER NOW OR FIND OUT MORE
URL:https://melanoma.org.au/event/iaa-summer-sunset-session-identification-of-melanoma-during-hearing-tests/
CATEGORIES:Education,Clinician Education
ATTACH;FMTTYPE=image/jpeg:https://melanoma.org.au/wp-content/uploads/2025/02/IAA.jpg
END:VEVENT
BEGIN:VEVENT
DTSTART;VALUE=DATE:20250222
DTEND;VALUE=DATE:20250223
DTSTAMP:20260423T225738
CREATED:20250106T003634Z
LAST-MODIFIED:20250106T003739Z
UID:10000149-1740182400-1740268799@melanoma.org.au
SUMMARY:Rottnest Channel Swim 2025
DESCRIPTION:One of Australia’s iconic community sporting events and the largest open water swim event in the world\, the South32 Rottnest Channel Swim is a 19.7km open-water swim from Cottesloe Beach to Rottnest Island (Wadjemup). Held in February\, the event sells out annually and brings more people to Rottnest Island than any other day of the year; with over 12\,000 people attending the event. \nWhen you nominate MIA as your charity of choice\, funds raised support our life-saving melanoma research\, so we can reach our mission of zero deaths from melanoma. \nMake sure you set up your fundraising page\, as well as registering for the event – both can be done at the link below. \nREGISTER NOW
URL:https://melanoma.org.au/event/rottnest-channel-swim-2025/
LOCATION:Cottesloe Beach\, Cottesloe Beach\, Perth\, WA\, 6011\, Australia
ATTACH;FMTTYPE=image/jpeg:https://melanoma.org.au/wp-content/uploads/2024/12/Rottnest-Channel-Swim-2025.jpg
END:VEVENT
BEGIN:VEVENT
DTSTART;TZID=Australia/Sydney:20250225T190000
DTEND;TZID=Australia/Sydney:20250225T200000
DTSTAMP:20260423T225738
CREATED:20241217T043109Z
LAST-MODIFIED:20241217T043109Z
UID:10000146-1740510000-1740513600@melanoma.org.au
SUMMARY:Clinical Webinar: Updates in management of non-melanoma skin cancer
DESCRIPTION:Join Melanoma Institute Australia (MIA) for an educational webinar tailored for Skin Cancer Doctors\, GPs\, Nurses\, and other healthcare professionals with an interest in skin cancer. \nHosted by A/Prof Paul Fishburn (Skin Cancer GP)\, this engaging webinar will feature multidisciplinary experts sharing the latest updates on managing non-melanoma skin cancer (NMSC) through interactive case study discussions. \nSpeakers: \n\nDr Christoph Sinz (Dermatologist\, MIA)\nA/Prof Sydney Ch’ng (Plastic & Reconstructive Surgeon and Head & Neck Surgeon\, MIA)\nA/Prof Matteo Carlino (Medical Oncologist\, MIA)\n\nDate: 7pm – 8pm AEDT on Tuesday 25 February 2025 \nCost: Free \nCPD: 1 CPD hour. A certificate of attendance will be provided. Accreditation details coming soon. \nREGISTER NOW
URL:https://melanoma.org.au/event/clinical-webinar-updates-in-management-of-non-melanoma-skin-cancer/
CATEGORIES:Education,Clinician Education
ATTACH;FMTTYPE=image/jpeg:https://melanoma.org.au/wp-content/uploads/2024/12/Clinical-Webinar-Website.jpg
END:VEVENT
END:VCALENDAR