BEGIN:VCALENDAR
VERSION:2.0
PRODID:-//Melanoma Institute Australia - ECPv6.15.20//NONSGML v1.0//EN
CALSCALE:GREGORIAN
METHOD:PUBLISH
X-ORIGINAL-URL:https://melanoma.org.au
X-WR-CALDESC:Events for Melanoma Institute Australia
REFRESH-INTERVAL;VALUE=DURATION:PT1H
X-Robots-Tag:noindex
X-PUBLISHED-TTL:PT1H
BEGIN:VTIMEZONE
TZID:Australia/Sydney
BEGIN:STANDARD
TZOFFSETFROM:+1100
TZOFFSETTO:+1000
TZNAME:AEST
DTSTART:20240406T160000
END:STANDARD
BEGIN:DAYLIGHT
TZOFFSETFROM:+1000
TZOFFSETTO:+1100
TZNAME:AEDT
DTSTART:20241005T160000
END:DAYLIGHT
BEGIN:STANDARD
TZOFFSETFROM:+1100
TZOFFSETTO:+1000
TZNAME:AEST
DTSTART:20250405T160000
END:STANDARD
BEGIN:DAYLIGHT
TZOFFSETFROM:+1000
TZOFFSETTO:+1100
TZNAME:AEDT
DTSTART:20251004T160000
END:DAYLIGHT
BEGIN:STANDARD
TZOFFSETFROM:+1100
TZOFFSETTO:+1000
TZNAME:AEST
DTSTART:20260404T160000
END:STANDARD
BEGIN:DAYLIGHT
TZOFFSETFROM:+1000
TZOFFSETTO:+1100
TZNAME:AEDT
DTSTART:20261003T160000
END:DAYLIGHT
END:VTIMEZONE
BEGIN:VTIMEZONE
TZID:Australia/Hobart
BEGIN:STANDARD
TZOFFSETFROM:+1100
TZOFFSETTO:+1000
TZNAME:AEST
DTSTART:20240406T160000
END:STANDARD
BEGIN:DAYLIGHT
TZOFFSETFROM:+1000
TZOFFSETTO:+1100
TZNAME:AEDT
DTSTART:20241005T160000
END:DAYLIGHT
BEGIN:STANDARD
TZOFFSETFROM:+1100
TZOFFSETTO:+1000
TZNAME:AEST
DTSTART:20250405T160000
END:STANDARD
BEGIN:DAYLIGHT
TZOFFSETFROM:+1000
TZOFFSETTO:+1100
TZNAME:AEDT
DTSTART:20251004T160000
END:DAYLIGHT
BEGIN:STANDARD
TZOFFSETFROM:+1100
TZOFFSETTO:+1000
TZNAME:AEST
DTSTART:20260404T160000
END:STANDARD
BEGIN:DAYLIGHT
TZOFFSETFROM:+1000
TZOFFSETTO:+1100
TZNAME:AEDT
DTSTART:20261003T160000
END:DAYLIGHT
END:VTIMEZONE
BEGIN:VEVENT
DTSTART;TZID=Australia/Sydney:20250405T090000
DTEND;TZID=Australia/Sydney:20250405T133000
DTSTAMP:20260423T171322
CREATED:20250219T003912Z
LAST-MODIFIED:20250225T050140Z
UID:10000163-1743843600-1743859800@melanoma.org.au
SUMMARY:2025 Riverina GP Dermoscopy Workshop: Melanoma in Focus
DESCRIPTION:Develop your dermoscopy skills at our upcoming workshop hosted by Melanoma Institute Australia\, held in partnership with St Vincent’s Private Community Hospital Griffith. \nDermoscopy is an invaluable tool for General Practitioners\, offering a detailed assessment of skin lesions in everyday practice. \nIn this informative half-day session designed for General GPs\, we provide an introduction to dermoscopy\, highlighting its essential role in diagnosing and monitoring melanoma and other skin lesions within the context of general practice. \nParticipants will build confidence by gaining foundational knowledge and practical skills in identifying structures and distinguishing skin lesions\, including melanoma\, through the “Chaos and clues” algorithm. As understanding dermatopathology is fundamentally important in comprehending dermoscopy\, our workshop will also integrate essential aspects of dermatopathology\, enriching participants’ knowledge and enhancing their ability to interpret dermoscopic findings effectively. \nCase studies will also be presented\, and there will be opportunities to find out about local services and network. \nJoin us to develop your understanding and refine your capabilities in dermoscopy\, contributing to more effective melanoma detection and monitoring in clinical practice. \nPRESENTER:* \n\nA/Prof Paul Fishburn – Skin Cancer GP\, Norwest Skin Cancer Centre | Education Committee Member\, Melanoma Institute Australia | Associate Professor of Medicine\, University of Queensland\n\nPROGRAM:* \n\nSession 1: Introduction to Dermoscopy\nSession 2: Dermatopathology\nSession 3: Case study discussion\nSession 4: An introduction to local services\n\nLEARNING OUTCOMES: \n\nExplain the process and benefits for evaluating skin lesions under dermoscopy in general practice.\nRecognise the different clues to melanoma using dermoscopy.\nDescribe dermoscopic features of skin lesions using the ‘Chaos and clues’ algorithm.\nUnderstand the importance of dermoscopic histopathological correlation.\n\nDate: Saturday 5 April 2025\, 9:00am to 1:30pm (Note: Registration will open at 8:30am with presentations commencing at 9am sharp)\nCost: Free (Note: morning tea and lunch will be provided)\nCPD: This event has been accredited for 4hr EA hours with RACGP (ID: 1164111)\, ACRRM (ID 35925) and SkinPro CPD (Activity number 10114). A certificate of attendance will also be provided. \nMIA’s Education Program is proudly supported through unrestricted educational grants from MSD\, Bristol Myers Squibb and HEINE. \nREGISTER NOW
URL:https://melanoma.org.au/event/2025-riverina-gp-dermoscopy-workshop-melanoma-in-focus/
LOCATION:St Vincent’s Private Community Hospital Griffith\, 41 Animoo Avenue\, Griffith\, NSW\, 2680\, Australia
CATEGORIES:Education,Clinician Education
ATTACH;FMTTYPE=image/jpeg:https://melanoma.org.au/wp-content/uploads/2025/02/2025-Riverina-GP-Dermoscopy-Workshop_MIA-Banner_1200x675-1.jpg
END:VEVENT
BEGIN:VEVENT
DTSTART;TZID=Australia/Hobart:20250406T053000
DTEND;TZID=Australia/Hobart:20250406T120000
DTSTAMP:20260423T171323
CREATED:20240924T235934Z
LAST-MODIFIED:20250109T002802Z
UID:10000130-1743917400-1743940800@melanoma.org.au
SUMMARY:Hobart Airport Marathon Festival 2025
DESCRIPTION:The Hobart Airport Marathon Festival is set along the spectacular Constitution Dock\, Derwent River and Salamanca Wharves\, runners and fans will be beguiled by the charming\, contrasting blend of heritage\, scenery and culture nestled amongst world- class attractions throughout the 2 lap course. With picturesque waterways\, pristine bushland\, rugged mountains\, captivating history and a world- class gourmet & cultural scene\, runners will be enamoured by all this great city has to offer. \nThere are five distances on offer: Full Marathon – 42.2km | Half Marathon – 21.1km | 10km | 5km run & 5km walk | 2km Fun run and walk. Everyone has an opportunity to experience the thrill of crossing the finish line with Hobart’s iconic waterfront as the backdrop \nWhen you nominate MIA as your charity of choice\, funds raised support our life-saving melanoma research\, so we can reach our mission of zero deaths from melanoma. \nMake sure you set up your fundraising page\, as well as registering for the event – both can be done at the link below. \nEarly bird prices available until 21 January 2025. \nREGISTER NOW
URL:https://melanoma.org.au/event/hobart-airport-marathon-festival-2025/
LOCATION:PW1 Castray Esplanade\, PW1 Castray Esplanade\, Hobart\, TAS\, 7000\, Australia
CATEGORIES:Fundraiser,Running Events
ATTACH;FMTTYPE=image/png:https://melanoma.org.au/wp-content/uploads/2024/09/Hobart-Airport-Marathon-1200x675-1.png
END:VEVENT
BEGIN:VEVENT
DTSTART;TZID=Australia/Sydney:20250413T060000
DTEND;TZID=Australia/Sydney:20250413T130000
DTSTAMP:20260423T171323
CREATED:20240925T062606Z
LAST-MODIFIED:20250109T011755Z
UID:10000131-1744524000-1744549200@melanoma.org.au
SUMMARY:The Canberra Times Marathon Festival 2025
DESCRIPTION:Experience the history of the Capital City at The Canberra Times Marathon Festival on 13 April 2025. This prestigious event offers five different distances that each showcase the scenery and history of Australia’s Capital City. \nChoose from the AIMS certified Marathon\, Half Marathon\, and 10K courses\, or the 5.4K and Kids’ 2K fun run. All races start near the Old Parliament House and allow you to soak in the scenic views of the National Triangle and Lake Burley Griffin – the centrepiece of Canberra. \nThere is something for runners of every level\, so join in on this extraordinary celebration of running – whether you’re a seasoned athlete or a beginner\, you do not want to miss this festival that celebrates Canberra. \nWhen you nominate MIA as your charity of choice\, funds raised support our life-saving melanoma research\, so we can reach our mission of zero deaths from melanoma. \nMake sure you set up your fundraising page\, as well as registering for the event – both can be done at the link below. \nREGISTER NOW
URL:https://melanoma.org.au/event/the-canberra-times-marathon-festival-2025/
LOCATION:John Dunmore Lang Place\, John Dunmore Lang Place\, Parkes\, ACT\, 2600\, Australia
CATEGORIES:Fundraiser
ATTACH;FMTTYPE=image/png:https://melanoma.org.au/wp-content/uploads/2024/09/Canberra-Marathon-Festival-1200x675-1.png
END:VEVENT
END:VCALENDAR