BEGIN:VCALENDAR
VERSION:2.0
PRODID:-//Melanoma Institute Australia - ECPv6.15.20//NONSGML v1.0//EN
CALSCALE:GREGORIAN
METHOD:PUBLISH
X-ORIGINAL-URL:https://melanoma.org.au
X-WR-CALDESC:Events for Melanoma Institute Australia
REFRESH-INTERVAL;VALUE=DURATION:PT1H
X-Robots-Tag:noindex
X-PUBLISHED-TTL:PT1H
BEGIN:VTIMEZONE
TZID:Australia/Sydney
BEGIN:STANDARD
TZOFFSETFROM:+1100
TZOFFSETTO:+1000
TZNAME:AEST
DTSTART:20240406T160000
END:STANDARD
BEGIN:DAYLIGHT
TZOFFSETFROM:+1000
TZOFFSETTO:+1100
TZNAME:AEDT
DTSTART:20241005T160000
END:DAYLIGHT
BEGIN:STANDARD
TZOFFSETFROM:+1100
TZOFFSETTO:+1000
TZNAME:AEST
DTSTART:20250405T160000
END:STANDARD
BEGIN:DAYLIGHT
TZOFFSETFROM:+1000
TZOFFSETTO:+1100
TZNAME:AEDT
DTSTART:20251004T160000
END:DAYLIGHT
BEGIN:STANDARD
TZOFFSETFROM:+1100
TZOFFSETTO:+1000
TZNAME:AEST
DTSTART:20260404T160000
END:STANDARD
BEGIN:DAYLIGHT
TZOFFSETFROM:+1000
TZOFFSETTO:+1100
TZNAME:AEDT
DTSTART:20261003T160000
END:DAYLIGHT
END:VTIMEZONE
BEGIN:VTIMEZONE
TZID:Australia/Brisbane
BEGIN:STANDARD
TZOFFSETFROM:+1000
TZOFFSETTO:+1000
TZNAME:AEST
DTSTART:20240101T000000
END:STANDARD
END:VTIMEZONE
BEGIN:VTIMEZONE
TZID:Australia/Melbourne
BEGIN:STANDARD
TZOFFSETFROM:+1100
TZOFFSETTO:+1000
TZNAME:AEST
DTSTART:20240406T160000
END:STANDARD
BEGIN:DAYLIGHT
TZOFFSETFROM:+1000
TZOFFSETTO:+1100
TZNAME:AEDT
DTSTART:20241005T160000
END:DAYLIGHT
BEGIN:STANDARD
TZOFFSETFROM:+1100
TZOFFSETTO:+1000
TZNAME:AEST
DTSTART:20250405T160000
END:STANDARD
BEGIN:DAYLIGHT
TZOFFSETFROM:+1000
TZOFFSETTO:+1100
TZNAME:AEDT
DTSTART:20251004T160000
END:DAYLIGHT
BEGIN:STANDARD
TZOFFSETFROM:+1100
TZOFFSETTO:+1000
TZNAME:AEST
DTSTART:20260404T160000
END:STANDARD
BEGIN:DAYLIGHT
TZOFFSETFROM:+1000
TZOFFSETTO:+1100
TZNAME:AEDT
DTSTART:20261003T160000
END:DAYLIGHT
END:VTIMEZONE
BEGIN:VEVENT
DTSTART;TZID=Australia/Sydney:20250701T180000
DTEND;TZID=Australia/Sydney:20250701T190000
DTSTAMP:20260424T181127
CREATED:20250602T234921Z
LAST-MODIFIED:20250604T001256Z
UID:10000173-1751392800-1751396400@melanoma.org.au
SUMMARY:An evening with Cate Campbell
DESCRIPTION:Join us for a special evening in Hobart with four-time Olympic gold medallist and melanoma survivor Cate Campbell. Hosted by Melanoma Institute Australia and St Lukes Health\, this one-hour event offers the chance to hear Cate’s story— her melanoma diagnosis and how it changed her perspective on health\, sun safety and advocacy. \nTickets: $20 per adult | $10 per child (under 16) \nREGISTER NOW
URL:https://melanoma.org.au/event/an-evening-with-cate-campbell/
LOCATION:St Lukes Wellness Hub\, 72 Elizabeth Street\, Hobart\, TAS\, 7000\, Australia
CATEGORIES:Tasmania,Awareness
ATTACH;FMTTYPE=image/jpeg:https://melanoma.org.au/wp-content/uploads/2025/06/MIAE0351-Web-Banner_Cate-Campbell.jpg
END:VEVENT
BEGIN:VEVENT
DTSTART;TZID=Australia/Brisbane:20250713T054500
DTEND;TZID=Australia/Brisbane:20250713T120000
DTSTAMP:20260424T181127
CREATED:20241016T003400Z
LAST-MODIFIED:20250109T012349Z
UID:10000135-1752385500-1752408000@melanoma.org.au
SUMMARY:The Cairns Marathon Festival 2025
DESCRIPTION:The Cairns Marathon Festival is a must-do destination event in Australia for all running and lifestyle event enthusiasts. \nLocated in beautiful North Queensland participants will want to increase their stay to take in the beauty of the tropics. \nEvent distances include the Marathon\, Half Marathon\, 10km\, 5km and the 2km. Each road race will take in the best that Cairns has to offer. The event hub is a hive of activity hosting running clubs\, corporate teams and sponsors. On-course and post-race entertainment in Fogarty Park are an integral element of the participant’s overall event experience. \nThe 2km event allows parents with prams and wheelchair entrants to take part and enjoy the festival atmosphere. Race start times are scheduled to allow for parents to run the longer distances and then return in time to run with the kids and enjoy all the free fun in the family entertainment precinct. \nWith a distance to suit every ability and age group\, this community-focused event caters to all those wanting to take part\, including families and those with both physical and intellectual disabilities. \nWhen you nominate MIA as your charity of choice\, funds raised support our life-saving melanoma research\, so we can reach our mission of zero deaths from melanoma. \nMake sure you set up your fundraising page\, as well as registering for the event – both can be done at the link below. \nREGISTER NOW
URL:https://melanoma.org.au/event/the-cairns-marathon-festival-2025/
LOCATION:Fogarty Park\, Cairns\, 42-50 Esplanade\, Cairns City\, QLD\, 4870\, Australia
CATEGORIES:Fundraiser,Running Events
ATTACH;FMTTYPE=image/jpeg:https://melanoma.org.au/wp-content/uploads/2024/10/Cairns-Marathon-Festival-2025-1200x675-1.jpg
END:VEVENT
BEGIN:VEVENT
DTSTART;TZID=Australia/Melbourne:20250713T063000
DTEND;TZID=Australia/Melbourne:20250713T130000
DTSTAMP:20260424T181127
CREATED:20250107T050425Z
LAST-MODIFIED:20250107T052841Z
UID:10000150-1752388200-1752411600@melanoma.org.au
SUMMARY:Run Melbourne 2025
DESCRIPTION:Join Melbourne’s largest winter running event in 2025\, where over 25\,000 runners will embrace the thrill of running through the city’s closed streets and iconic landmarks. Run Melbourne is your chance to chase your next personal best while being celebrated at the epic finish line at Melbourne Park Oval. Three distances on offer means something for everyone: 21.1k\, 10k and 5.5k. \nWhen you nominate MIA as your charity of choice\, funds raised support our life-saving melanoma research\, so we can reach our mission of zero deaths from melanoma. \nMake sure you set up your fundraising page\, as well as registering for the event – both can be done at the link below. \nREGISTER NOW
URL:https://melanoma.org.au/event/run-melbourne-2025/
LOCATION:Grand Slam Oval\, Olympic Boulevard\, Melbourne\, VIC\, 3004\, Australia
CATEGORIES:Fundraiser,Running Events
ATTACH;FMTTYPE=image/jpeg:https://melanoma.org.au/wp-content/uploads/2025/01/Run-Melbourne-2025.jpg
END:VEVENT
BEGIN:VEVENT
DTSTART;TZID=Australia/Sydney:20250726T090000
DTEND;TZID=Australia/Sydney:20250726T170000
DTSTAMP:20260424T181127
CREATED:20250218T043413Z
LAST-MODIFIED:20250325T011611Z
UID:10000162-1753520400-1753549200@melanoma.org.au
SUMMARY:Northern Rivers Melanoma Specialists Update
DESCRIPTION:Stay at the forefront of melanoma care with this comprehensive educational update for healthcare professionals. \nHosted by Melanoma Institute Australia\, in partnership with St Vincent’s Lismore\, our one-day meeting is designed to provide valuable insights from leading multidisciplinary melanoma experts through engaging presentations and interactive case discussions. \nDevelop your dermoscopy skills and deepen your understanding of dermatopathology in the morning session\, then broaden your expertise with multidisciplinary melanoma management updates in the afternoon. The program is designed to be relevant for both primary and specialist care\, and all health professionals are welcome to attend one or both sessions. \nPROGRAM:* \nMorning Session (9:00am to 12:45pm) \n\nAdvanced dermoscopy overview – A/Prof Paul Fishburn (Skin Cancer GP\, University of Queensland)\nDermatopathology – Dr Alexandra Currie (Anatomical Pathologist\, Sullivan Nicolaides Pathology)\nDermatopathology dermoscopy correlation case study discussion and quiz – A/Prof Paul Fishburn and Dr Alexandra Currie\n\nAfternoon Session (1.30pm to 5.00pm) \n\nSurgical management of melanoma and interpretation of lymphoscintigraphy – A/Prof Alexander van Akkooi (Surgical Oncologist\, Melanoma Institute Australia) and Dr David Ryan (General Surgeon\, St Vincent’s Lismore)\nUpdates in medical oncology – Dr Mark Flower (Medical Oncologist\, St Vincent’s Lismore) and Dr Martin Tio (Medical Oncologist\, The Tweed Hospital)\nMultidisciplinary management of melanoma: Case-study panel discussions – Led by Dr David Ryan and featuring all speakers\n\nCPD: A certificate of attendance will be provided. This event has been accredited with RACGP (ID: 1165847) and SkinPro CPD for 6 EA hours (Activity number 10102). Further accreditation details coming soon.\nCost: Free\nTickets: You are welcome to attend the morning session\, the afternoon session\, or stay for the full day. Please indicate your preference when registering. Refreshments will be provided. \n*Program is subject to change. \nMIA’s Education Program is proudly supported through unrestricted educational grants from Bristol Myers Squibb\, MSD and HEINE. \nREGISTER NOW
URL:https://melanoma.org.au/event/northern-rivers-melanoma-specialists-update/
LOCATION:The Education Centre at St Vincent’s Hospital Lismore\, 20 Dalley St\, East Lismore\, NSW\, 2480\, Australia
CATEGORIES:Education,Clinician Education
ATTACH;FMTTYPE=image/jpeg:https://melanoma.org.au/wp-content/uploads/2025/02/Northern-Rivers-Melanoma-Specialist-Update.jpg
END:VEVENT
END:VCALENDAR