BEGIN:VCALENDAR
VERSION:2.0
PRODID:-//Melanoma Institute Australia - ECPv6.15.20//NONSGML v1.0//EN
CALSCALE:GREGORIAN
METHOD:PUBLISH
X-WR-CALNAME:Melanoma Institute Australia
X-ORIGINAL-URL:https://melanoma.org.au
X-WR-CALDESC:Events for Melanoma Institute Australia
REFRESH-INTERVAL;VALUE=DURATION:PT1H
X-Robots-Tag:noindex
X-PUBLISHED-TTL:PT1H
BEGIN:VTIMEZONE
TZID:Australia/Perth
BEGIN:STANDARD
TZOFFSETFROM:+0800
TZOFFSETTO:+0800
TZNAME:AWST
DTSTART:20240101T000000
END:STANDARD
END:VTIMEZONE
BEGIN:VTIMEZONE
TZID:Australia/Brisbane
BEGIN:STANDARD
TZOFFSETFROM:+1000
TZOFFSETTO:+1000
TZNAME:AEST
DTSTART:20240101T000000
END:STANDARD
END:VTIMEZONE
BEGIN:VTIMEZONE
TZID:Australia/Sydney
BEGIN:STANDARD
TZOFFSETFROM:+1100
TZOFFSETTO:+1000
TZNAME:AEST
DTSTART:20240406T160000
END:STANDARD
BEGIN:DAYLIGHT
TZOFFSETFROM:+1000
TZOFFSETTO:+1100
TZNAME:AEDT
DTSTART:20241005T160000
END:DAYLIGHT
BEGIN:STANDARD
TZOFFSETFROM:+1100
TZOFFSETTO:+1000
TZNAME:AEST
DTSTART:20250405T160000
END:STANDARD
BEGIN:DAYLIGHT
TZOFFSETFROM:+1000
TZOFFSETTO:+1100
TZNAME:AEDT
DTSTART:20251004T160000
END:DAYLIGHT
BEGIN:STANDARD
TZOFFSETFROM:+1100
TZOFFSETTO:+1000
TZNAME:AEST
DTSTART:20260404T160000
END:STANDARD
BEGIN:DAYLIGHT
TZOFFSETFROM:+1000
TZOFFSETTO:+1100
TZNAME:AEDT
DTSTART:20261003T160000
END:DAYLIGHT
END:VTIMEZONE
BEGIN:VEVENT
DTSTART;TZID=Australia/Perth:20250802T180000
DTEND;TZID=Australia/Perth:20250802T230000
DTSTAMP:20260424T215123
CREATED:20250619T084623Z
LAST-MODIFIED:20250620T061222Z
UID:10000181-1754157600-1754175600@melanoma.org.au
SUMMARY:Daffodil Chef Dinner 2025
DESCRIPTION:Join us for an unforgettable evening at the Eighth Annual Daffodil Chef Dinner at Optus Stadium in Perth on Saturday 2nd August. \n\nThe Daffodil Chef Dinner was founded by Maryce Scriven in 2018\, in memory of her late husband\, chef Steve Scriven\, who passed away from melanoma at just 32 years of age.  This much-loved annual event celebrates the life of Steven\, raises funds for Melanoma Institute Australia WA and helps increase awareness of melanoma. \nJoin us for:\nCanapes + Three Course Gourmet Dining Experience\nFive Hour Drinks Package\nDoor Prizes + Games\nLive + Silent Auction + Raffle\nFace Painting + Dancing\nLive Music by Neon Cleo \nDress: Cocktail \nTickets: $170 per person \n‘Diamond Daffodil’ Tables are also available for $3000. Perfect for a corporate group\, it includes a table of ten is located at the front of the room\, next to the dance floor. It also includes valuable branding opportunities at the event – your logo on each table\, logo on media wall\, and signage at entrance into event. \n\nBUY TICKETS + TABLES
URL:https://melanoma.org.au/event/daffodil-chef-dinner-2025/
LOCATION:Victory Lounge\, Optus Stadium\, 333 Victoria Park Drive\, Burswood\, WA\, 6100\, Australia
CATEGORIES:Fundraiser,WA
ATTACH;FMTTYPE=image/png:https://melanoma.org.au/wp-content/uploads/2025/06/Daffodil-Chef-1200-x-675-px.png
END:VEVENT
BEGIN:VEVENT
DTSTART;TZID=Australia/Brisbane:20250803T060000
DTEND;TZID=Australia/Brisbane:20250803T120000
DTSTAMP:20260424T215123
CREATED:20241016T012029Z
LAST-MODIFIED:20250109T012807Z
UID:10000136-1754200800-1754222400@melanoma.org.au
SUMMARY:EVA Air Sunshine Coast Marathon 2025
DESCRIPTION:Join us on Sunday 3 August 2025 for the Sunshine Coast Marathon! Since its inception\, the Sunshine Coast Marathon has raised over $2 million for charity and community groups. \nLocated on the stunning Sunshine Coast\, this event has been timed to make the most of the ideal Queensland winter running conditions. Blue skies\, low humidity and mild temperatures combined with a flat course always enable fast times. \nEvent distances include the Marathon\, Half Marathon\, 10km\, 5km and the 2km. Each road race follows the stunning coastline of Alexandra Headland with white sandy beaches and spectacular vantage points alongside the ocean. The Half Marathon is a one-loop course with Marathon entrants completing a multi-loop course (1 x 21km + 2 x 10.5km’s) making the most of the on-course entertainment and crowds of spectators before a red carpet ‘hero’ finish. \nWith a distance to suit everyone\, this community-focused\, world-class athletic event caters to all ages and abilities. \nThe 2km event allows parents with prams and wheelchair entrants to take part and enjoy the festival atmosphere. Race start times are scheduled to allow for parents to run the longer distances and then return in time to run with the kids and enjoy all the free fun in the family entertainment precinct. \nWhen you nominate MIA as your charity of choice\, funds raised support our life-saving melanoma research\, so we can reach our mission of zero deaths from melanoma. \nMake sure you set up your fundraising page\, as well as registering for the event – both can be done at the link below. \nREGISTER NOW
URL:https://melanoma.org.au/event/eva-air-sunshine-coast-marathon-2025/
LOCATION:Buhk Family Park\, Alexandra Parade\, Alexandra Headland\, QLD\, 4572\, Australia
CATEGORIES:Fundraiser,Running Events
ATTACH;FMTTYPE=image/jpeg:https://melanoma.org.au/wp-content/uploads/2024/10/Sunshine-Coast-Marathon-2025-1200x675-1-1.jpg
END:VEVENT
BEGIN:VEVENT
DTSTART;VALUE=DATE:20250812
DTEND;VALUE=DATE:20250815
DTSTAMP:20260424T215123
CREATED:20250325T004009Z
LAST-MODIFIED:20250325T004019Z
UID:10000165-1754956800-1755215999@melanoma.org.au
SUMMARY:2025 MOGA Annual Scientific Meeting
DESCRIPTION:The 2025 MOGA Annual Scientific Meeting will bring Australian Oncologists together to discuss\, learn\, and plan as we pivot further into the rapidly expanding field of cancer immunotherapy. The meeting Beyond the Checkpoints – Navigating the Immunotherapy Revolution\, will be a timely opportunity to explore how immunotherapy has not replaced\, but has enriched cancer care alongside more established treatment approaches. The meeting will draw national and international experts together to face the dual challenges of immunotherapy failure and immune-related adverse events. Sessions will provide updates on key clinical advances across major cancer types\, and cover the insights needed for attendees to stay ahead of the next wave of immunotherapeutics that lie Beyond the Checkpoints. How clinicians navigate the ever-changing treatment options\, moving goalposts of survival\, and access to evolving standards of care will form the central focus of this year’s professional sessions. \nAs the peak national scientific forum for Medical Oncologists\, the 2025 meeting will host a comprehensive mix of scientific and professional sessions including dedicated trainee and YOGA content\, oral and poster presentations\, an extensive Industry Exhibition\, and networking and social events headlined by the Annual Meeting Dinner. \nWe welcome you to join your colleagues for an energising Annual Meeting in Melbourne on 12 – 14 August\, 2025. \nREGISTER NOW
URL:https://melanoma.org.au/event/2025-moga-annual-scientific-meeting/
CATEGORIES:Education,Clinician Education
ATTACH;FMTTYPE=image/png:https://melanoma.org.au/wp-content/uploads/2025/03/MOGO-2025-1.png
END:VEVENT
BEGIN:VEVENT
DTSTART;VALUE=DATE:20250814
DTEND;VALUE=DATE:20250818
DTSTAMP:20260424T215123
CREATED:20250708T051448Z
LAST-MODIFIED:20250804T050054Z
UID:10000184-1755129600-1755475199@melanoma.org.au
SUMMARY:Sydney Boat Show
DESCRIPTION:ALL ABOARD\, SYDNEY! \nExplore Australia’s ultimate indoor boating and lifestyle showcase – this August at the Sydney Boat Show. \nFrom paddleboards to powerboats\, fishing gear to family fun\, experience it all under one roof at Sydney Showground\, Sydney Olympic Park. \nWhether you’re a seasoned skipper or just dipping your toes in\, the show offers something for every boating enthusiast – with leading brands\, expert demonstrations\, hands-on activities\, and exclusive show-only deals. \nWhat’s more\, Melanoma Institute Australia (MIA) is bringing its ‘Sun Safe Island’ activation to the Sydney Boat Show to encourage sun protection amongst boating enthusiasts. On ‘Sun Safe Island’ attendees can get on board with sun safety and learn about effective sun protection strategies\, whilst having some interactive fun – including a spin-to-win-wheel\, sun-safe selfies\, and the chance to win a CoolCabanas beach shade. \nGet your tickets to the Sydney Boat Show and come say hi to MIA at Sun Safe Island! \n\nUse MIA’s discount link below to receive 30% off Sydney Boat Show tickets. \n\n\nGET TICKETS HERE
URL:https://melanoma.org.au/event/sydney-boat-show/
LOCATION:Sydney Showground\, Grand Parade\, Sydney Olympic Park\, NSW\, 2127\, Australia
CATEGORIES:Awareness
ATTACH;FMTTYPE=image/jpeg:https://melanoma.org.au/wp-content/uploads/2025/07/Sydney-Boat-Show-2025.jpg
END:VEVENT
BEGIN:VEVENT
DTSTART;TZID=Australia/Sydney:20250814T084500
DTEND;TZID=Australia/Sydney:20250814T143000
DTSTAMP:20260424T215123
CREATED:20241121T075245Z
LAST-MODIFIED:20250715T063211Z
UID:10000138-1755161100-1755181800@melanoma.org.au
SUMMARY:SunSafe Student Program - Sydney\, Wollstonecraft (Aug 2025)
DESCRIPTION:Help change attitudes about sun safety in a very important demographic: our youth. \n\n\nMelanoma Institute Australia’s SunSafe Student Ambassador Program is a free one-day workshop that teaches teens about the importance of sun safety and the dangers of tanning\, while developing their public speaking skills and empowering them to be champions of change within their school community. The program promotes student wellbeing and fulfils PDHPE/HPE curriculum outcomes.\n\n\n\nSchools are invited to send 3-5 students from Years 8-10 plus an accompanying teacher to participate in this important program.\n\n2025 locations include:\n\n Wollstonecraft\, Sydney (14 August)\n Camperdown\, Sydney (20 August)\n Cottesloe\, Perth (27 August)\n Hobart (4 September)\n Brisbane (9 September)\n Ballina (12 September)\n Wagga Wagga (18 September)\n\nVIEW INFORMATION SHEET ABOUT SYDNEY EVENT  Schools – please register now using button below – places are filling fast!\nSCHOOLS – REGISTER NOW\n\nParents – please encourage your child’s school to attend\, or complete the expression of interest form below. \n\nEXPRESSION OF INTEREST FORM\nThe SunSafe Program is an initiative of Melanoma Institute Australia and is held in partnership with Cancer Council NSW\, Sydney Local Health District and Northern Sydney Local Health District. 
URL:https://melanoma.org.au/event/sunsafe-student-ambassador-program-2025-sydney-wollstonecraft/
LOCATION:The Poche Centre\, 40 Rocklands Road\, Wollstonecraft\, NSW\, 2065\, Australia
CATEGORIES:Education
ATTACH;FMTTYPE=image/jpeg:https://melanoma.org.au/wp-content/uploads/2024/11/SunSafe-website.jpg
ORGANIZER;CN="Melanoma Institute Australia Education Team":MAILTO:education@melanoma.org.au
END:VEVENT
BEGIN:VEVENT
DTSTART;TZID=Australia/Sydney:20250820T084500
DTEND;TZID=Australia/Sydney:20250820T143000
DTSTAMP:20260424T215123
CREATED:20241121T104512Z
LAST-MODIFIED:20250715T061244Z
UID:10000139-1755679500-1755700200@melanoma.org.au
SUMMARY:SunSafe Student Program - Sydney\, Camperdown (Aug 2025)
DESCRIPTION:Help change attitudes about sun safety in a very important demographic: our youth. \n\n\nMelanoma Institute Australia’s SunSafe Student Ambassador Program is a free one-day workshop that teaches teens about the importance of sun safety and the dangers of tanning\, while developing their public speaking skills and empowering them to be champions of change within their school community. The program promotes student wellbeing and fulfils PDHPE/HPE curriculum outcomes.\n\n\n\nSchools are invited to send 3-5 students from Years 8-10 plus an accompanying teacher to participate in this important program.\n\n2025 locations include:\n\n Wollstonecraft\, Sydney (14 August)\n Camperdown\, Sydney (20 August)\n Cottesloe\, Perth (27 August)\n Hobart (4 September)\n Brisbane (9 September)\n Ballina (12 September)\n Wagga Wagga (18 September)\n\nVIEW INFORMATION SHEET ABOUT SYDNEY EVENT  Schools – please register now using button below – places are filling fast!\nSCHOOLS – REGISTER NOW\n\nParents – please encourage your child’s school to attend\, or complete the expression of interest form below. \n\nEXPRESSION OF INTEREST FORM\nThe SunSafe Program is an initiative of Melanoma Institute Australia and is held in partnership with Cancer Council NSW\, Sydney Local Health District and Northern Sydney Local Health District. 
URL:https://melanoma.org.au/event/sunsafe-student-program-sydney-camperdown/
LOCATION:Kerry Packer Education Centre\, John Hopkins Drive\, Camperdown\, NSW\, 2050\, Australia
CATEGORIES:Education
ATTACH;FMTTYPE=image/jpeg:https://melanoma.org.au/wp-content/uploads/2024/11/SunSafe-website.jpg
ORGANIZER;CN="Melanoma Institute Australia Education Team":MAILTO:education@melanoma.org.au
END:VEVENT
BEGIN:VEVENT
DTSTART;TZID=Australia/Perth:20250827T084500
DTEND;TZID=Australia/Perth:20250827T143000
DTSTAMP:20260424T215123
CREATED:20241121T105322Z
LAST-MODIFIED:20250715T061154Z
UID:10000140-1756284300-1756305000@melanoma.org.au
SUMMARY:SunSafe Student Program - Perth (Aug 2025)
DESCRIPTION:Help change attitudes about sun safety in a very important demographic: our youth. \n\n\nMelanoma Institute Australia’s SunSafe Student Ambassador Program is a free one-day workshop that teaches teens about the importance of sun safety and the dangers of tanning\, while developing their public speaking skills and empowering them to be champions of change within their school community. The program promotes student wellbeing and fulfils PDHPE/HPE curriculum outcomes.\n\n\n\nSchools are invited to send 3-5 students from Years 8-10 plus an accompanying teacher to participate in this important program.\n\n2025 locations include:\n\n Wollstonecraft\, Sydney (14 August)\n Camperdown\, Sydney (20 August)\n Cottesloe\, Perth (27 August)\n Hobart (4 September)\n Brisbane (9 September)\n Ballina (12 September)\n Wagga Wagga (18 September)\n\nVIEW INFORMATION SHEET ABOUT PERTH EVENT  Schools – please register now using button below – places are filling fast!\nSCHOOLS – REGISTER NOW\n\nParents – please encourage your child’s school to attend\, or complete the expression of interest form below. \n\nEXPRESSION OF INTEREST FORM\nThe SunSafe Program is an initiative of Melanoma Institute Australia and is held in partnership with Cancer Council WA. 
URL:https://melanoma.org.au/event/sunsafe-student-program-2025-perth/
LOCATION:Cancer Wellness Centre\, 80 Railway St\, Cottesloe\, WA\, 6011\, Australia
CATEGORIES:Education,WA
ATTACH;FMTTYPE=image/jpeg:https://melanoma.org.au/wp-content/uploads/2024/11/SunSafe-website.jpg
ORGANIZER;CN="Melanoma Institute Australia WA":MAILTO:wa@melanoma.org.au
END:VEVENT
BEGIN:VEVENT
DTSTART;TZID=Australia/Sydney:20250829T180000
DTEND;TZID=Australia/Sydney:20250829T200000
DTSTAMP:20260424T215123
CREATED:20250709T230013Z
LAST-MODIFIED:20250729T065907Z
UID:10000185-1756490400-1756497600@melanoma.org.au
SUMMARY:Hobart Dinner Update: Neoadjuvant Treatment - Shaping Clinical Practice
DESCRIPTION:Melanoma Institute Australia invites healthcare professionals to attend an in-person educational event focused on the evolving role of neoadjuvant immunotherapy. Attendees will have the opportunity to hear the latest evidence and trial outcomes\, understand the clinical rationale for neoadjuvant approaches\, and explore how this strategy is being applied in real-world settings. \nPresented by:* \n\nA/Prof Alexander van Akkooi – Surgical Oncologist\, Melanoma Institute Australia\nA/Prof Louise Nott – Medical Oncologist\, Icon Cancer Centre\n\nThis meeting is suitable for Surgeons\, General Practitioners\, Skin Cancer GPs\, Medical Oncologists\, and other clinicians involved in multidisciplinary melanoma care. \nA light dinner will be provided. Kindly let us know of any dietary requirements when registering. \n*Program is subject to change. \nDate: Friday 29 August 2025\, 6:00pm to 8:00pm\nVenue: Crowne Plaza (Centurian 1 Room)\, 110 Liverpool St\, Hobart TAS 7000\, Australia\nCost: Free\nCPD: A certificate of attendance for 2 hours will be provided for your records. \nREGISTER NOW
URL:https://melanoma.org.au/event/hobart-dinner-update-neoadjuvant-treatment-shaping-clinical-practice/
LOCATION:Crowne Plaza (Aura Event Space – Level 12)\, 110 Liverpool St\, Hobart\, TAS\, 6000\, Australia
CATEGORIES:Education,Clinician Education
ATTACH;FMTTYPE=image/jpeg:https://melanoma.org.au/wp-content/uploads/2025/07/Web-banner_Neoadjuvant-Treatment_HOBART.jpg
END:VEVENT
BEGIN:VEVENT
DTSTART;TZID=Australia/Sydney:20250830T110000
DTEND;TZID=Australia/Sydney:20250830T130000
DTSTAMP:20260424T215123
CREATED:20250710T002300Z
LAST-MODIFIED:20250710T011231Z
UID:10000186-1756551600-1756558800@melanoma.org.au
SUMMARY:Launceston Brunch Update: Neoadjuvant Treatment - Shaping Clinical Practice
DESCRIPTION:Melanoma Institute Australia invites healthcare professionals to attend an in-person educational event focused on the evolving role of neoadjuvant immunotherapy. Attendees will have the opportunity to hear the latest evidence and trial outcomes\, understand the clinical rationale for neoadjuvant approaches\, and explore how this strategy is being applied in real-world settings \nPresented by:* \n\nA/Prof Alexander van Akkooi – Surgical Oncologist\, Melanoma Institute Australia\n\nThis meeting is suitable for Surgeons\, General Practitioners\, Skin Cancer GPs\, Medical Oncologists\, and other clinicians involved in multidisciplinary melanoma care.\nA light brunch will be provided. Kindly let us know of any dietary requirements when registering.\n*Program is subject to change. \nDate: Saturday 30 August 2025\, 11:00am to 1:00pm\nVenue: Peppers Silo Hotel\, 89-91 Lindsay St\, Invermay TAS 7248\nCost: Free\nCPD: A certificate of attendance for 2 hours will be provided for your records. \nREGISTER NOW
URL:https://melanoma.org.au/event/launceston-brunch-update-neoadjuvant-treatment-shaping-clinical-practice/
LOCATION:Peppers Silo Hotel\, 89-91 Lindsay St\, Invermay\, TAS\, 7248\, Australia
CATEGORIES:Education,Clinician Education
ATTACH;FMTTYPE=image/jpeg:https://melanoma.org.au/wp-content/uploads/2025/07/Web-banner_Neoadjuvant-Treatment_LAUNCESTON.jpg
END:VEVENT
BEGIN:VEVENT
DTSTART;VALUE=DATE:20250831
DTEND;VALUE=DATE:20250901
DTSTAMP:20260424T215123
CREATED:20250617T013703Z
LAST-MODIFIED:20250617T013703Z
UID:10000175-1756598400-1756684799@melanoma.org.au
SUMMARY:TCS Sydney Marathon
DESCRIPTION:On Sunday 31 August\, the TCS Sydney Marathon kicks off\, with three course options available: a full marathon (42.2km)\, 10km and 5km. \nThe marathon course starts at the same location as the Sydney 2000 Olympic Marathon\, in North Sydney\, and takes runners across the iconic Sydney Harbour Bridge\, around the landmarks of The Rocks\, Circular Quay and Centennial Park\, before finishing in front of the world-famous Sydney Opera House. \nWhen you nominate MIA as your charity of choice\, funds raised support our life-saving melanoma research\, so we can reach our mission of zero deaths from melanoma. \nMake sure you set up your fundraising page\, as well as registering for the event – both can be done at the link below. \n\nREGISTER NOW
URL:https://melanoma.org.au/event/tcs-sydney-marathon/
LOCATION:Miller Street\, North Sydney\, Miller Street\, North Sydney\, NSW\, 2060\, Australia
CATEGORIES:Fundraiser,Running Events
ATTACH;FMTTYPE=image/jpeg:https://melanoma.org.au/wp-content/uploads/2025/06/TCS-Sydney-Marathon-2025.jpg
END:VEVENT
END:VCALENDAR