BEGIN:VCALENDAR
VERSION:2.0
PRODID:-//Melanoma Institute Australia - ECPv6.15.20//NONSGML v1.0//EN
CALSCALE:GREGORIAN
METHOD:PUBLISH
X-WR-CALNAME:Melanoma Institute Australia
X-ORIGINAL-URL:https://melanoma.org.au
X-WR-CALDESC:Events for Melanoma Institute Australia
REFRESH-INTERVAL;VALUE=DURATION:PT1H
X-Robots-Tag:noindex
X-PUBLISHED-TTL:PT1H
BEGIN:VTIMEZONE
TZID:Australia/Sydney
BEGIN:STANDARD
TZOFFSETFROM:+1100
TZOFFSETTO:+1000
TZNAME:AEST
DTSTART:20210403T160000
END:STANDARD
BEGIN:DAYLIGHT
TZOFFSETFROM:+1000
TZOFFSETTO:+1100
TZNAME:AEDT
DTSTART:20211002T160000
END:DAYLIGHT
BEGIN:STANDARD
TZOFFSETFROM:+1100
TZOFFSETTO:+1000
TZNAME:AEST
DTSTART:20220402T160000
END:STANDARD
BEGIN:DAYLIGHT
TZOFFSETFROM:+1000
TZOFFSETTO:+1100
TZNAME:AEDT
DTSTART:20221001T160000
END:DAYLIGHT
BEGIN:STANDARD
TZOFFSETFROM:+1100
TZOFFSETTO:+1000
TZNAME:AEST
DTSTART:20230401T160000
END:STANDARD
BEGIN:DAYLIGHT
TZOFFSETFROM:+1000
TZOFFSETTO:+1100
TZNAME:AEDT
DTSTART:20230930T160000
END:DAYLIGHT
BEGIN:STANDARD
TZOFFSETFROM:+1100
TZOFFSETTO:+1000
TZNAME:AEST
DTSTART:20240406T160000
END:STANDARD
BEGIN:DAYLIGHT
TZOFFSETFROM:+1000
TZOFFSETTO:+1100
TZNAME:AEDT
DTSTART:20241005T160000
END:DAYLIGHT
BEGIN:STANDARD
TZOFFSETFROM:+1100
TZOFFSETTO:+1000
TZNAME:AEST
DTSTART:20250405T160000
END:STANDARD
BEGIN:DAYLIGHT
TZOFFSETFROM:+1000
TZOFFSETTO:+1100
TZNAME:AEDT
DTSTART:20251004T160000
END:DAYLIGHT
BEGIN:STANDARD
TZOFFSETFROM:+1100
TZOFFSETTO:+1000
TZNAME:AEST
DTSTART:20260404T160000
END:STANDARD
BEGIN:DAYLIGHT
TZOFFSETFROM:+1000
TZOFFSETTO:+1100
TZNAME:AEDT
DTSTART:20261003T160000
END:DAYLIGHT
END:VTIMEZONE
BEGIN:VEVENT
DTSTART;TZID=Australia/Sydney:20251031T120000
DTEND;TZID=Australia/Sydney:20251031T170000
DTSTAMP:20260423T225535
CREATED:20250927T091336Z
LAST-MODIFIED:20250927T094624Z
UID:10000190-1761912000-1761930000@melanoma.org.au
SUMMARY:MIA Amie St Clair Annual Golf Day
DESCRIPTION:We invite our community\, from the Riverina and beyond\, to join us for the MIA Amie St Clair Melanoma Annual Golf Day at the Wagga Wagga Country Club on Friday 31st October. \nIt promises to be an enjoyable afternoon of golf – including a BBQ lunch\, on-course competitions\, prizes for Best Dressed Team\, auctions and raffle. \nCheck-In and BBQ from 12pm. Shotgun start at 1pm.\n2 Player Ambrose. Teams of 2 in group of 4. \nTickets are $70 per player\, which includes your game and BBQ. \nSponsorship packages can also be purchased for $650. This includes branding on a hole and 4 players. \nFunds raised support melanoma research and local melanoma services. \nBuy individual tickets and sponsorship packages here via button below. \nAny questions – please contact Moo on 0423 407 001 or email amie.stclair@melanoma.org.au. \nBUY TICKETS & SPONSORSHIP PACKAGE THANKS TO OUR GOLD EVENTS PARTNER\, GORDO’S PLUMBING SERVICE.
URL:https://melanoma.org.au/event/mia-amie-st-clair-annual-golf-day/
LOCATION:Wagga Wagga Country Club\, Plumpton Road\, Wagga Wagga\, NSW\, 2650\, Australia
CATEGORIES:Fundraiser,Amie St Clair
ATTACH;FMTTYPE=image/png:https://melanoma.org.au/wp-content/uploads/2025/09/ASC-2025-Golf-Day-Event-tile-1200-x-675.png
END:VEVENT
BEGIN:VEVENT
DTSTART;VALUE=DATE:20250301
DTEND;VALUE=DATE:20250302
DTSTAMP:20260423T225535
CREATED:20250121T055522Z
LAST-MODIFIED:20250122T221018Z
UID:10000159-1740787200-1740873599@melanoma.org.au
SUMMARY:Melanoma March Wagga Wagga 2025
DESCRIPTION:Melanoma March events are being held across Australia for the 14th year to raise awareness and help save lives from melanoma. \nMelanoma March Wagga Wagga will be on Saturday 1 March. \nMelanoma Institute Australia (MIA) is calling on all Australians to join its 2025 Melanoma March campaign\, to raise funds and awareness about the disease that claims one Australian life every six hours. \nNow open for registrations\, MIA’s Melanoma March events will be held all across the country during March 2025 and are organised by volunteer committees impacted by melanoma. \nFunds raised during Melanoma March 2025 will support the development and updating of the National Melanoma Clinical Guidelines\, which are not funded by Government. These guidelines are vital to ensure all melanoma patients across Australia benefit from current evidence-based clinical best practice\, reducing the burden of melanoma and helping to reach our mission of zero deaths. \nImportantly\, the events also provide an opportunity for patients and families to come together to support each other and remember those lost to the disease. \nAustralia has the highest melanoma rates in the world\, with one person diagnosed every 30 minutes and one person dying from the disease every 6 hours. It is also the most common cancer affecting 20-39 year old Australians. Despite research breakthroughs\, currently around 45% of advanced melanoma patients don’t respond or become resistant to new immunotherapy treatments. \nSign up for Melanoma March Wagga Wagga at the link below. You can choose to walk or run! \nREGISTER NOW OR DONATECost to Register: \nCosts to attend a physical event are: \n\nAdults (over 18 years) $40\nChild (5-17 years) $20\nChild (under 5) Free\nFamily deal: Register 2 x Adults and up to 5 Children (5-17 yrs) for $80. Additional adults will be charged the full rate.
URL:https://melanoma.org.au/event/melanoma-march-wagga-wagga-2025/
LOCATION:Apex Park\, Lake Albert\, 43 Eastlake Dr\, Lake Albert\, NSW\, 2650\, Australia
CATEGORIES:Amie St Clair,Awareness,Fundraiser
ATTACH;FMTTYPE=image/jpeg:https://melanoma.org.au/wp-content/uploads/2025/01/MM25-web-image-for-post-and-events_ASC.jpg
END:VEVENT
BEGIN:VEVENT
DTSTART;TZID=Australia/Sydney:20240629T180000
DTEND;TZID=Australia/Sydney:20240629T230000
DTSTAMP:20260423T225535
CREATED:20240409T042016Z
LAST-MODIFIED:20240625T031508Z
UID:10000110-1719684000-1719702000@melanoma.org.au
SUMMARY:MIA Amie St Clair Annual Ball 2024
DESCRIPTION:Our 13th Annual MIA Amie St Clair Ball has a very special guest speaker and a Gatsby theme!\nJoin us for a roaring good time at our Gatsby-themed MIA Amie St Clair Melanoma Annual Ball. \nIt’s a fantastic opportunity to kick up your heels for a good cause\, and also hear the inspiring words of a very special guest speaker: Professor Richard Scolyer AO\, Co-Medical Director of Melanoma Institute Australia and the joint 2024 Australian of the Year. \nIt’s set to be a night to remember with dinner\, dancing\, live entertainment by the Australian Army Band Kapooka\, auctions\, raffles\, and a 1920s party atmosphere. \nTickets are $130 each.\nGather your friends\, organise a table and kick up your heels at our annual ball. \nJazz up your outfit with a touch of 1920’s style! \nAll funds raised support melanoma research and services in the Riverina. \nSponsorship Opportunities are available – For more details on Sponsorship Packages\, please email Moo before purchasing tickets – amanda.hubbard@melanoma.org.au \nBUY TICKETSIf you can’t attend the the Gatsby-themed MIA Amie St Clair Melanoma Annual Ball\, but would like to support please donate via the button below. \nDONATE TO SUPPORT AMIE ST CLAIR BALL
URL:https://melanoma.org.au/event/amie-st-clair-annual-ball-2024/
LOCATION:The Range Function Centre\, 308 Copland St\, Wagga Wagga\, NSW\, 2650\, Australia
CATEGORIES:Amie St Clair
ATTACH;FMTTYPE=image/jpeg:https://melanoma.org.au/wp-content/uploads/2024/05/Gatsby_SPEAKER_Enews-Header_1200x675.jpg
END:VEVENT
BEGIN:VEVENT
DTSTART;VALUE=DATE:20231122
DTEND;VALUE=DATE:20231123
DTSTAMP:20260423T225535
CREATED:20231103T004447Z
LAST-MODIFIED:20231103T010321Z
UID:10000103-1700611200-1700697599@melanoma.org.au
SUMMARY:Australian Army Band Kapooka Concert
DESCRIPTION:On Wednesday 22 November\, The Australian Army Band Kapooka will be performing two free concerts at the Wagga Wagga Civic Theatre in support of MIA Amie St Clair. \n\nSince 1952 the Army Recruit Training Centre (ARTC) has been home to the Australian Army Band Kapooka\, a full-time military band. In addition to military and ceremonial roles\, the band provides support to local and regional charitable organisations and communities in the Riverina.\n\n\n \n\n\nOn Wed 22 Nov\, as part of their community contribution\, the Australian Army Band Kapooka will be performing two concerts at the Wagga Wagga Civic Theatre – one at midday\, and one at 6pm.\n\n\n \n\n\nFor these two concerts\, Amie St Clair Melanoma (part of Melanoma Institute Australia) has been selected as the charity partner. \n\n\n \n\n\nTreat yourself to a performance by the Australian Army Band Kapooka. It’s fun for the whole family (& its free!).\n\n\n \n\n\nReserve your free tickets using the buttons – until sold out!\n\n\n\n\n\n\n\nMidday Concert – 12 midday\n\n\n\nRESERVE TICKETS FOR MIDDAY CONCERT \nEvening Concert – 6pm\nRESERVE TICKETS FOR EVENING CONCERT
URL:https://melanoma.org.au/event/aabk-concerts/
LOCATION:Civic Theatre Wagga Wagga\, Burns Way\, off Tarcutta St\, Wagga Wagga\, NSW\, 2650\, Australia
CATEGORIES:Amie St Clair,Fundraiser
ATTACH;FMTTYPE=image/jpeg:https://melanoma.org.au/wp-content/uploads/2023/11/Wagga-band-website.jpg
END:VEVENT
BEGIN:VEVENT
DTSTART;TZID=Australia/Sydney:20231112T090000
DTEND;TZID=Australia/Sydney:20231112T150000
DTSTAMP:20260423T225535
CREATED:20231030T000549Z
LAST-MODIFIED:20231030T001638Z
UID:10000101-1699779600-1699801200@melanoma.org.au
SUMMARY:Amie's Softball Day
DESCRIPTION:Join in the fun at Amie’s Softball Day\, being held in Wagga Wagga on Sunday 12 November at 9am. \nThis annual awareness and fundraising event\, hosted by MIA Amie St Clair Melanoma\, is held in honour of Amie St Clair who was an avid softball player. \nIt is a mixed social competition for players 18 years and over with prizes\, raffles and a BBQ. Please BYO playing equipment. Hats must be worn! Cost is $15 per person. \nGet your friends together and register your team – or we can find you a team. Registrations close Thursday 9 November. \nTo register contact Moo on 0423 407 001 – or email her using the button below. \nREGISTER NOW
URL:https://melanoma.org.au/event/amies-softball-day/
LOCATION:French Fields\, 48 Walteela Ave\, Mount Austin\, NSW\, 2650\, Australia
CATEGORIES:Amie St Clair,Awareness,Fundraiser
ATTACH;FMTTYPE=image/jpeg:https://melanoma.org.au/wp-content/uploads/2023/10/ASC-Softball.jpg
END:VEVENT
BEGIN:VEVENT
DTSTART;TZID=Australia/Sydney:20230916T090000
DTEND;TZID=Australia/Sydney:20230916T150000
DTSTAMP:20260423T225535
CREATED:20230801T013649Z
LAST-MODIFIED:20230810T110653Z
UID:10000097-1694854800-1694876400@melanoma.org.au
SUMMARY:Mole Check for Amie Day
DESCRIPTION:Mole Check for Amie Day is a day to raise awareness about melanoma\, and to know the skin you’re in!\n\n\nIf you live in the Riverina\, and are concerned about any skin spots\, don’t miss this opportunity to have a free professional skin check.\n\nRegister now – appointments are limited. \nREGISTER NOWThank you to Wagga Motors\, our MIA Amie St Clair Gold Event Partner.
URL:https://melanoma.org.au/event/mole-check-for-amie-day-2/
LOCATION:Riverina Day Surgery\, 2-8 Meurant Avenue\, Wagga Wagga\, NSW\, 2650\, Australia
CATEGORIES:Awareness,Amie St Clair
ATTACH;FMTTYPE=image/jpeg:https://melanoma.org.au/wp-content/uploads/2023/08/Mole-Check-for-Amie-web.jpg
END:VEVENT
BEGIN:VEVENT
DTSTART;TZID=Australia/Sydney:20230624T180000
DTEND;TZID=Australia/Sydney:20230624T230000
DTSTAMP:20260423T225536
CREATED:20230421T231448Z
LAST-MODIFIED:20230622T070812Z
UID:10000089-1687629600-1687647600@melanoma.org.au
SUMMARY:Amie St Clair 'Winter Wonderland' Ball
DESCRIPTION:Join us for an evening of ‘Winter Wonderland’ fun\, in support of services for melanoma patients in the Riverina. \nIt’s set to be a fabulous night with dinner\, dancing\, entertainment by\nOne Shot Too Many\, auctions\, raffles\, and many more ‘wintery’ delights! \n❄ Wear a touch of winter! ❄ \nTickets are $130 each\, or $1200 for a table of ten. \nBUY TICKETS NOWThank you to Wagga Motors\, our Gold Event Partner\, for their wonderful support. \nAny questions?\nCall Moo 0423 407 001\, or Netty 0448 255 223
URL:https://melanoma.org.au/event/amie-st-clair-winter-wonderland-ball/
LOCATION:The Range Function Centre\, 308 Copland St\, Wagga Wagga\, NSW\, 2650\, Australia
CATEGORIES:Amie St Clair
ATTACH;FMTTYPE=image/jpeg:https://melanoma.org.au/wp-content/uploads/2023/04/ASC-Ball-2023-MIA-Website-tiles.jpg
END:VEVENT
BEGIN:VEVENT
DTSTART;TZID=Australia/Sydney:20230303T110000
DTEND;TZID=Australia/Sydney:20230303T160000
DTSTAMP:20260423T225536
CREATED:20230131T012037Z
LAST-MODIFIED:20230131T012649Z
UID:10000085-1677841200-1677859200@melanoma.org.au
SUMMARY:MIA Amie St Clair Annual Golf Day 2023
DESCRIPTION:We’re pleased to invite you to our MIA Amie St Clair Melanoma ANNUAL GOLF DAY\, to be held at the Wagga Wagga Country Club on Friday 3rd March 2023. \nJoin us for a great day of golf\, including a BBQ\, raffles & auctions. Drinks are available on the course. Funds raised support MIA Amie St Clair Melanoma. \nFirst tee-off is at 11am. Tee-off times are allocated when booking.\n2 Man Ambrose.\nTeams of 2 – Groups of 4.\n$50 per player \nInterested in sponsoring a hole? Cost is $500 per hole\, which includes 2 x Team of 2. \nFor bookings & sponsorship call Moo on 0423 407 001\, or email amanda.hubbard@melanoma.org.au. \nBOOK OR SPONSOR NOW
URL:https://melanoma.org.au/event/mia-amie-st-clair-annual-golf-day-2023/
LOCATION:Wagga Wagga Country Club\, Plumpton Road\, Wagga Wagga\, NSW\, 2650\, Australia
CATEGORIES:Amie St Clair
ATTACH;FMTTYPE=image/jpeg:https://melanoma.org.au/wp-content/uploads/2023/01/MIAA0211-ASC-Annual-Golf-Day-1200-x-675-Event-tile.jpg
END:VEVENT
BEGIN:VEVENT
DTSTART;TZID=Australia/Sydney:20220625T180000
DTEND;TZID=Australia/Sydney:20220625T233000
DTSTAMP:20260423T225536
CREATED:20220209T024629Z
LAST-MODIFIED:20220606T235803Z
UID:10000050-1656180000-1656199800@melanoma.org.au
SUMMARY:Amie St Clair Annual Ball
DESCRIPTION:Join in the fun\, support our services for melanoma patients and celebrate the 10th anniversary of Amie St Clair Melanoma. \nYou are invited to the Amie St Clair 10th Anniversary Annual Ball!\nWe have had to postpone three times\, due to COVID restrictions\, so this promises to be a great evening! \nEnjoy hors d’oeuvres\, dinner\, live music\, raffles and auctions! \nOur Special Guest Speaker (via video) is Olivia Vivian – Olympian\, Australian Ninja Warrior and Melanoma Institute Australia ambassador. \nTables are set for 10. \nContact: Moo 0423 407 001 or Annette 0448 255 223
URL:https://melanoma.org.au/event/amie-st-clair-annual-ball/
LOCATION:The Range Function Centre\, 308 Copland St\, Wagga Wagga\, NSW\, 2650\, Australia
CATEGORIES:Amie St Clair,Fundraiser
ATTACH;FMTTYPE=image/jpeg:https://melanoma.org.au/wp-content/uploads/2022/02/Amie-St-Clair-Ball-Facebook-Cover-Banner.jpg
END:VEVENT
END:VCALENDAR