BEGIN:VCALENDAR
VERSION:2.0
PRODID:-//Melanoma Institute Australia - ECPv6.15.20//NONSGML v1.0//EN
CALSCALE:GREGORIAN
METHOD:PUBLISH
X-WR-CALNAME:Melanoma Institute Australia
X-ORIGINAL-URL:https://melanoma.org.au
X-WR-CALDESC:Events for Melanoma Institute Australia
REFRESH-INTERVAL;VALUE=DURATION:PT1H
X-Robots-Tag:noindex
X-PUBLISHED-TTL:PT1H
BEGIN:VTIMEZONE
TZID:Australia/Sydney
BEGIN:STANDARD
TZOFFSETFROM:+1100
TZOFFSETTO:+1000
TZNAME:AEST
DTSTART:20220402T160000
END:STANDARD
BEGIN:DAYLIGHT
TZOFFSETFROM:+1000
TZOFFSETTO:+1100
TZNAME:AEDT
DTSTART:20221001T160000
END:DAYLIGHT
BEGIN:STANDARD
TZOFFSETFROM:+1100
TZOFFSETTO:+1000
TZNAME:AEST
DTSTART:20230401T160000
END:STANDARD
BEGIN:DAYLIGHT
TZOFFSETFROM:+1000
TZOFFSETTO:+1100
TZNAME:AEDT
DTSTART:20230930T160000
END:DAYLIGHT
BEGIN:STANDARD
TZOFFSETFROM:+1100
TZOFFSETTO:+1000
TZNAME:AEST
DTSTART:20240406T160000
END:STANDARD
BEGIN:DAYLIGHT
TZOFFSETFROM:+1000
TZOFFSETTO:+1100
TZNAME:AEDT
DTSTART:20241005T160000
END:DAYLIGHT
BEGIN:STANDARD
TZOFFSETFROM:+1100
TZOFFSETTO:+1000
TZNAME:AEST
DTSTART:20250405T160000
END:STANDARD
BEGIN:DAYLIGHT
TZOFFSETFROM:+1000
TZOFFSETTO:+1100
TZNAME:AEDT
DTSTART:20251004T160000
END:DAYLIGHT
END:VTIMEZONE
BEGIN:VTIMEZONE
TZID:Australia/Hobart
BEGIN:STANDARD
TZOFFSETFROM:+1100
TZOFFSETTO:+1000
TZNAME:AEST
DTSTART:20220402T160000
END:STANDARD
BEGIN:DAYLIGHT
TZOFFSETFROM:+1000
TZOFFSETTO:+1100
TZNAME:AEDT
DTSTART:20221001T160000
END:DAYLIGHT
BEGIN:STANDARD
TZOFFSETFROM:+1100
TZOFFSETTO:+1000
TZNAME:AEST
DTSTART:20230401T160000
END:STANDARD
BEGIN:DAYLIGHT
TZOFFSETFROM:+1000
TZOFFSETTO:+1100
TZNAME:AEDT
DTSTART:20230930T160000
END:DAYLIGHT
BEGIN:STANDARD
TZOFFSETFROM:+1100
TZOFFSETTO:+1000
TZNAME:AEST
DTSTART:20240406T160000
END:STANDARD
BEGIN:DAYLIGHT
TZOFFSETFROM:+1000
TZOFFSETTO:+1100
TZNAME:AEDT
DTSTART:20241005T160000
END:DAYLIGHT
END:VTIMEZONE
BEGIN:VEVENT
DTSTART;TZID=Australia/Sydney:20240224T083000
DTEND;TZID=Australia/Sydney:20240224T123000
DTSTAMP:20260425T012916
CREATED:20231211T075118Z
LAST-MODIFIED:20231211T080012Z
UID:10000104-1708763400-1708777800@melanoma.org.au
SUMMARY:GP Education Breakfast
DESCRIPTION:Melanoma Institute Australia is pleased to invite you to our educational breakfast for Skin Cancer Doctors and GPs with an interest in skin cancer medicine. \nHear from our multidisciplinary experts as we discuss the alignment of skin cancer care between primary and specialist services that will ultimately elevate your practice and patient care. \nPRESENTATIONS*:\n• Challenging melanoma diagnoses – Dr Christoph Sinz (Dermatologist)\n• Provision of surgical services by GPs and other specialists in skin cancer management – Assoc Prof Alexander van Akkooi (Surgical Oncologist)\n• The role of the GP in radiological scanning for melanoma – Dr Kevin London (Nuclear Medicine Specialist)\n• Advances in diagnostic technology – Prof Pascale Guitera (Dermatologist)\n• Skin cancer follow up care and the importance of shared care – Assoc Prof Robyn Saw (General Surgeon)\n• Understanding the increasing role of immunotherapy in melanoma: What GPs should know about complications and managing side effects – A/Prof Alexander Menzies (Medical Oncologist) \nThe breakfast session will also include several engaging case study discussions led by our hosts A/Prof Sydney Ch’ng (Plastic and Head & Neck Surgeon) and A/Prof Paul Fishburn (Skin Cancer GP). \nCost: Free \nCPD: A certificate of attendance will be provided for 3 hours of CPD. Accreditation details will be provided shortly. \nRSVP: By 13 February. Seats are strictly limited so please reserve your ticket ASAP and advise us if you’re no longer able to make it. \nPlease note this is a face-to-face event only. \n*Program is subject to change.  \nREGISTER NOW
URL:https://melanoma.org.au/event/gp-education-breakfast-collaborative-care-in-skin-cancer/
LOCATION:The Poche Centre\, 40 Rocklands Road\, Wollstonecraft\, NSW\, 2065\, Australia
CATEGORIES:Clinician Education
ATTACH;FMTTYPE=image/jpeg:https://melanoma.org.au/wp-content/uploads/2023/12/GP-Breakfast.jpg
ORGANIZER;CN="Melanoma Institute Australia Education Team":MAILTO:education@melanoma.org.au
END:VEVENT
BEGIN:VEVENT
DTSTART;TZID=Australia/Sydney:20231212T130000
DTEND;TZID=Australia/Sydney:20231212T140000
DTSTAMP:20260425T012916
CREATED:20231102T044701Z
LAST-MODIFIED:20231102T044853Z
UID:10000102-1702386000-1702389600@melanoma.org.au
SUMMARY:Melanoma In Situ Webinar
DESCRIPTION:Melanoma Institute Australia invites all GPs and Nurses to join us for our latest webinar on melanoma in situ (MIS). \nIn this RACGP-accredited webinar\, multidisciplinary experts will discuss diagnosis and management of MIS\, the nursing role in topical treatments\, and how to effectively communicate the diagnosis to the patient. \nThe webinar is free\, however registration is essential. \nYou will receive a zoom link after you register. \nREGISTER NOW
URL:https://melanoma.org.au/event/melanoma-in-situ-webinar/
LOCATION:Online via Zoom
CATEGORIES:Education,Clinician Education
ATTACH;FMTTYPE=image/png:https://melanoma.org.au/wp-content/uploads/2023/11/MIA-Clinical-Webinar-Series_Banner-for-MIA-website_1200x675_MIS.png
ORGANIZER;CN="Melanoma Institute Australia Education Team":MAILTO:education@melanoma.org.au
END:VEVENT
BEGIN:VEVENT
DTSTART;TZID=Australia/Hobart:20231019T160000
DTEND;TZID=Australia/Hobart:20231019T180000
DTSTAMP:20260425T012917
CREATED:20230725T074827Z
LAST-MODIFIED:20230725T080121Z
UID:10000096-1697731200-1697738400@melanoma.org.au
SUMMARY:Northern Tasmania Melanoma Community Forum
DESCRIPTION:Our Melanoma Community Forum is designed to empower patients and their carers with the latest information from expert clinicians on melanoma diagnosis\, treatment and support.\nIf you have been diagnosed with melanoma or know someone who has\, this is your opportunity to learn more about: \n-understanding your diagnosis-treatment options for different stages of disease-the latest advancements in surgery and medical treatments-side effects from drug treatment-how to manage anxiety and fear of recurrence \nThe afternoon will conclude with a panel discussion. \nAfternoon tea and light refreshments will be provided. \nThis forum is hosted by Melanoma Institute Australia. \nDATE: Thursday 19 October\, 4pm to 6pm (Note: Doors open at 3:30pm) \nCOST: Free \nRSVP: By Friday 13 October 2023 \nREGISTER NOW
URL:https://melanoma.org.au/event/northern-tasmania-melanoma-community-forum/
LOCATION:Boathouse Centre\, 55 Lindsay Street\, Invermay\, Tasmania\, 7248\, Australia
CATEGORIES:Tasmania,Patient Education
ATTACH;FMTTYPE=image/png:https://melanoma.org.au/wp-content/uploads/2023/07/Tas-Commmunity-Form-2023-website.png
ORGANIZER;CN="Melanoma Institute Australia Education Team":MAILTO:education@melanoma.org.au
END:VEVENT
BEGIN:VEVENT
DTSTART;TZID=Australia/Sydney:20230605T180000
DTEND;TZID=Australia/Sydney:20230605T193000
DTSTAMP:20260425T012917
CREATED:20230502T083610Z
LAST-MODIFIED:20230502T111442Z
UID:10000090-1685988000-1685993400@melanoma.org.au
SUMMARY:GP Webinar - Dermatology insights across the melanoma journey: Essentials for GPs
DESCRIPTION:Join us via zoom for an educational webinar designed for all GPs and Skin Cancer GPs. \n\nHosted by Melanoma Institute Australia\, our latest webinar will feature leading experts discussing:*\n– Melanoma prevention and screening (Prof Anne Cust)\n– Clues to early diagnosis of melanoma (Dr Christoph Sinz)\n– Cutaneous side-effects from new drug treatments (A/Prof Linda Martin)\n– Translating dermatology insights into General Practice: Lessons learned from a GP’s experience at MIA (Dr Thomas Mathew)\n\nThe evening will conclude with a panel discussion and Q&A.\n\nCost: Free\n\nCPD: Accreditation pending.\n\n*Program is subject to change\n\nREGISTER NOW
URL:https://melanoma.org.au/event/gp-webinar-dermatology/
CATEGORIES:Clinician Education
ATTACH;FMTTYPE=image/png:https://melanoma.org.au/wp-content/uploads/2023/05/GP-Webinar-Dermatology-.png
ORGANIZER;CN="Melanoma Institute Australia Education Team":MAILTO:education@melanoma.org.au
END:VEVENT
BEGIN:VEVENT
DTSTART;TZID=Australia/Sydney:20230504T083000
DTEND;TZID=Australia/Sydney:20230504T163000
DTSTAMP:20260425T012917
CREATED:20230214T010559Z
LAST-MODIFIED:20230214T010625Z
UID:10000086-1683189000-1683217800@melanoma.org.au
SUMMARY:2023 Sydney Nurse Melanoma Symposium
DESCRIPTION:Join us for an engaging educational program designed for all nurses who care for melanoma patients.  \nHosted by Melanoma Institute Australia\, our one-day symposium for nurses will give you practical insights based on the latest research in the diagnosis and treatment of melanoma and complex skin cancers. \nThe 2023 Sydney Nurse Melanoma Symposium program covers the whole spectrum of the disease and features engaging presentations from multidisciplinary experts in the field. \nWe are pleased to be having a new hands-on workshop session this year\, as well as the option to attend a surgical or medical concurrent stream during our afternoon session. View the program\, and register using the button below. \nCost: $95 (inc GST) \nCPD: A Certificate of Attendance will be given after completing a survey on the event. \nRSVP: By 27 April 2023 \nSEE PROGRAM\, REGISTER NOW
URL:https://melanoma.org.au/event/2023-sydney-nurse-melanoma-symposium/
LOCATION:The Poche Centre\, 40 Rocklands Road\, Wollstonecraft\, NSW\, 2065\, Australia
CATEGORIES:Education,Clinician Education
ATTACH;FMTTYPE=image/png:https://melanoma.org.au/wp-content/uploads/2023/02/Nurse-Symposium.png
ORGANIZER;CN="Melanoma Institute Australia Education Team":MAILTO:education@melanoma.org.au
END:VEVENT
BEGIN:VEVENT
DTSTART;TZID=Australia/Sydney:20230314T183000
DTEND;TZID=Australia/Sydney:20230314T200000
DTSTAMP:20260425T012917
CREATED:20230110T070640Z
LAST-MODIFIED:20230110T071407Z
UID:10000082-1678818600-1678824000@melanoma.org.au
SUMMARY:GP Education: Detection & management of early melanoma in 2023
DESCRIPTION:Melanoma Institute Australia is proud to present an evening for GPs to hear from our multidisciplinary experts who will share updates on the latest developments in the diagnosis and management of early melanoma. \nAs this is a hybrid event\, GPs are invited to join us either in person in Sydney – at The Poche Centre – or from the comfort of your home online. Our face-to-face guests are invited to join us for light refreshments\, drinks and an opportunity to network with your peers from 6pm\, before the presentations commence.  \nPRESENTATIONS: \n\nTips and tricks for detecting early melanoma – Prof Pascale Guitera (Dermatologist)\nPractical surgery for managing early melanoma – A/Prof Alexander van Akkooi (Surgical Oncologist)\nThe role of radiotherapy in early melanoma – Prof Angela Hong (Radiation Oncologist)\nThe increasing role of systemic therapy in early melanoma – Prof Georgina Long AO (Medical Oncologist)\n\nThe evening will conclude with an engaging case study panel discussion and Q&A led by our host A/Prof Sydney Ch’ng (Surgical Oncologist and Chair of MIA’s Education Committee) and featuring our multidisciplinary speakers and A/Prof Paul Fishburn (Skin Cancer GP). \nCost: Free \nCPD: A Certificate of Attendance will be provided to attendees after the event. \nREGISTER NOW
URL:https://melanoma.org.au/event/gp-education-evening-detection-and-management-of-early-melanoma-in-2023/
LOCATION:The Poche Centre (or via Zoom)\, 40 Rocklands Road\, Wollstonecraft\, NSW\, 2204\, Australia
CATEGORIES:Education,Clinician Education
ATTACH;FMTTYPE=image/png:https://melanoma.org.au/wp-content/uploads/2023/01/MIAE0308-2023-Hybrid-GP-Education-Evening_MIA-EVENT-TILE.png
ORGANIZER;CN="Melanoma Institute Australia Education Team":MAILTO:education@melanoma.org.au
END:VEVENT
BEGIN:VEVENT
DTSTART;TZID=Australia/Sydney:20230214T130000
DTEND;TZID=Australia/Sydney:20230214T140000
DTSTAMP:20260425T012917
CREATED:20230110T002245Z
LAST-MODIFIED:20230110T002701Z
UID:10000081-1676379600-1676383200@melanoma.org.au
SUMMARY:Nurse Webinar: Managing immunotherapy side effects
DESCRIPTION:Nurses are instrumental in ensuring immunotherapy is delivered safely to their patients. Managing toxicities\, educating patients and ensuring patients receive the right care at the right time is crucial. \nIn our latest webinar in the MIA Nurse Webinar Series\, Medical Oncology CNC Kate Willis will explain the nurses’ role in managing side effects\, share her tips and talk through case studies for treating melanoma patients on immunotherapy. \nCost: Free \nCPD: 1 CPD hour (certificate will be provided after the webinar on completion of the survey) \nREGISTER NOW
URL:https://melanoma.org.au/event/nurse-webinar-managing-immunotherapy-side-effects/
CATEGORIES:Education,Clinician Education
ATTACH;FMTTYPE=image/png:https://melanoma.org.au/wp-content/uploads/2023/01/Nurse-Webinar-Immuno-Side-effects.png
ORGANIZER;CN="Melanoma Institute Australia Education Team":MAILTO:education@melanoma.org.au
END:VEVENT
END:VCALENDAR