BEGIN:VCALENDAR
VERSION:2.0
PRODID:-//Melanoma Institute Australia - ECPv6.15.20//NONSGML v1.0//EN
CALSCALE:GREGORIAN
METHOD:PUBLISH
X-WR-CALNAME:Melanoma Institute Australia
X-ORIGINAL-URL:https://melanoma.org.au
X-WR-CALDESC:Events for Melanoma Institute Australia
REFRESH-INTERVAL;VALUE=DURATION:PT1H
X-Robots-Tag:noindex
X-PUBLISHED-TTL:PT1H
BEGIN:VTIMEZONE
TZID:Australia/Sydney
BEGIN:STANDARD
TZOFFSETFROM:+1100
TZOFFSETTO:+1000
TZNAME:AEST
DTSTART:20240406T160000
END:STANDARD
BEGIN:DAYLIGHT
TZOFFSETFROM:+1000
TZOFFSETTO:+1100
TZNAME:AEDT
DTSTART:20241005T160000
END:DAYLIGHT
BEGIN:STANDARD
TZOFFSETFROM:+1100
TZOFFSETTO:+1000
TZNAME:AEST
DTSTART:20250405T160000
END:STANDARD
BEGIN:DAYLIGHT
TZOFFSETFROM:+1000
TZOFFSETTO:+1100
TZNAME:AEDT
DTSTART:20251004T160000
END:DAYLIGHT
BEGIN:STANDARD
TZOFFSETFROM:+1100
TZOFFSETTO:+1000
TZNAME:AEST
DTSTART:20260404T160000
END:STANDARD
BEGIN:DAYLIGHT
TZOFFSETFROM:+1000
TZOFFSETTO:+1100
TZNAME:AEDT
DTSTART:20261003T160000
END:DAYLIGHT
END:VTIMEZONE
BEGIN:VEVENT
DTSTART;VALUE=DATE:20250504
DTEND;VALUE=DATE:20250505
DTSTAMP:20260425T103404
CREATED:20250422T024907Z
LAST-MODIFIED:20250422T024907Z
UID:10000167-1746316800-1746403199@melanoma.org.au
SUMMARY:2025 Mornington Running Festival
DESCRIPTION:The Mornington Running Festival returns to Mornington Peninsula for the 11th time on the 4 May\, 2025 weekend. \nSet in what is one of Australia’s most stunning courses to run\, winding along the esplanade from Mornington to Mt Martha and back. This unique experience to run or walk along this road free from traffic is unmissable. \nThe weekend features a variety of running & walking events to suit all ages and fitness levels. \nAll finishers receive a finishers medal and a free donut. \nWhen you nominate MIA as your charity of choice\, funds raised support our life-saving melanoma research\, so we can reach our mission of zero deaths from melanoma. \n\nMake sure you set up your fundraising page\, as well as registering for the event – both can be done at the link below. \n\nREGISTER NOW
URL:https://melanoma.org.au/event/2025-mornington-running-festival/
LOCATION:Mornington Park\, Schnapper Point Dr\, Mornington\, VIC\, 3931\, Australia
CATEGORIES:Fundraiser,Running Events
ATTACH;FMTTYPE=image/jpeg:https://melanoma.org.au/wp-content/uploads/2025/04/Mornington-Running-Festival.jpg
END:VEVENT
END:VCALENDAR